BEGIN_USGS_DOQ_HEADER *
QUADRANGLE_NAME "COLD FORK" 3.45 or 7.5-min. name*
QUADRANT SW quadrant indicator if cell size = 3.75-minutes*
WEST_LONGITUDE -122 45 0.000 signed deg min sec SDDD MM SS.SSS*
EAST_LONGITUDE -122 41 15.000 signed deg min sec SDDD MM SS.SSS*
NORTH_LATITUDE 40 11 15.000 signed deg min sec SDDD MM SS.SSS*
SOUTH_LATITUDE 40 7 30.000 signed deg min sec SDDD MM SS.SSS*
PRODUCTION_DATE 1996 4 19 yyyy mm dd*
RASTER_ORDER LEFT_RIGHT/TOP_BOTTOM video display order*
BAND_ORGANIZATION "SINGLE FILE" single file or BSQ, or BIL or BIP*
BAND_CONTENT BLACK&WHITE black&white or red green blue*
BITS_PER_PIXEL 8 radiometric resolution*
SAMPLES_AND_LINES 6050 7578 number of columns and rows*
HORIZONTAL_DATUM NAD83 primary horizontal datum*
HORIZONTAL_COORDINATE_SYSTEM UTM *
COORDINATE_ZONE 10 coordinate system zone number*
HORIZONTAL_UNITS METERS coordinate system units*
HORIZONTAL_RESOLUTION 1.00 pixel horiz. ground sample distance*
SECONDARY_HORIZONTAL_DATUM NAD27 secondary horizontal datum*
XY_ORIGIN 520881.500 4448919.500 coord. of upper left pixel pri. datum*
SECONDARY_XY_ORIGIN 520977.574 4448723.317 coord upper left pixel sec datum*
NATION US nation code*
STATE CA state fip code*
NW_QUAD_CORNER_XY 521281.454 4448598.183 XY coords. of pri. NW quad corner*
NE_QUAD_CORNER_XY 526601.826 4448615.036 XY coords. of pri. NE quad corner*
SE_QUAD_CORNER_XY 526626.225 4441677.942 XY coords. of pri. SE quad corner*
SW_QUAD_CORNER_XY 521300.974 4441661.095 XY coords. of pri. SW quad corner*
SECONDARY_NW_QUAD_XY 521282.016 4448387.780 XY coords. - sec. NW quad cor.*
SECONDARY_NE_QUAD_XY 526602.528 4448404.633 XY coords. - sec. NE quad cor.*
SECONDARY_SE_QUAD_XY 526626.927 4441467.660 XY coords. - sec. SE quad cor.*
SECONDARY_SW_QUAD_XY 521301.535 4441450.813 XY coords. - sec. SW quad cor.*
RMSE_XY 3.30 doq horiz. accuracy*
IMAGE_SOURCE "BLACK AND WHITE FILM" b&w, cir, natural color, other*
SOURCE_IMAGE_ID "PAPP 5255 151" source image id*
SOURCE_IMAGE_DATE 1993 8 26 source image date as yyyy mm dd*
SOURCE_DEM_DATE 1996 4 19 source dem date yyyy mm dd*
AGENCY "WESTERN MAPPING CENTER (WMC)" oversight agency*
PRODUCER "Woolpert Consultants" producer/contractor*
PRODUCTION_SYSTEM "INTERGRAPH ISPM,ISIR" production system*
STANDARD_VERSION 1996 12 version of DOQ standard*
METADATA_DATE 1997 5 27 date created or changed, yyyy mm dd*
DATA_FILE_SIZE 45852950 data set size in bytes*
BYTE_COUNT 6050 header byte count* * * * * * * * * * * * * * * * * * * * * * * * * * * * * * * * *
END_USGS_HEADER *
