BEGIN_USGS_DOQ_HEADER *
QUADRANGLE_NAME "TOMHEAD MOUNTAIN" 3.45 or 7.5-min. name*
QUADRANT NE quadrant indicator if cell size = 3.75-minutes*
WEST_LONGITUDE -122 48 45.000 signed deg min sec SDDD MM SS.SSS*
EAST_LONGITUDE -122 45 0.000 signed deg min sec SDDD MM SS.SSS*
NORTH_LATITUDE 40 15 0.000 signed deg min sec SDDD MM SS.SSS*
SOUTH_LATITUDE 40 11 15.000 signed deg min sec SDDD MM SS.SSS*
PRODUCTION_DATE 1996 4 19 yyyy mm dd*
RASTER_ORDER LEFT_RIGHT/TOP_BOTTOM video display order*
BAND_ORGANIZATION "SINGLE FILE" single file or BSQ, or BIL or BIP*
BAND_CONTENT BLACK&WHITE black&white or red green blue*
BITS_PER_PIXEL 8 radiometric resolution*
SAMPLES_AND_LINES 6040 7574 number of columns and rows*
HORIZONTAL_DATUM NAD83 primary horizontal datum*
HORIZONTAL_COORDINATE_SYSTEM UTM *
COORDINATE_ZONE 10 coordinate system zone number*
HORIZONTAL_UNITS METERS coordinate system units*
HORIZONTAL_RESOLUTION 1.00 pixel horiz. ground sample distance*
SECONDARY_HORIZONTAL_DATUM NAD27 secondary horizontal datum*
XY_ORIGIN 515546.500 4455839.500 coord. of upper left pixel pri. datum*
SECONDARY_XY_ORIGIN 515642.673 4455643.237 coord upper left pixel sec datum*
NATION US nation code*
STATE CA state fip code*
NW_QUAD_CORNER_XY 515946.428 4455522.233 XY coords. of pri. NW quad corner*
NE_QUAD_CORNER_XY 521261.909 4455535.345 XY coords. of pri. NE quad corner*
SE_QUAD_CORNER_XY 521281.454 4448598.183 XY coords. of pri. SE quad corner*
SW_QUAD_CORNER_XY 515961.087 4448585.075 XY coords. of pri. SW quad corner*
SECONDARY_NW_QUAD_XY 515946.850 4455311.710 XY coords. - sec. NW quad cor.*
SECONDARY_NE_QUAD_XY 521262.471 4455324.822 XY coords. - sec. NE quad cor.*
SECONDARY_SE_QUAD_XY 521282.016 4448387.780 XY coords. - sec. SE quad cor.*
SECONDARY_SW_QUAD_XY 515961.508 4448374.672 XY coords. - sec. SW quad cor.*
RMSE_XY 5.20 doq horiz. accuracy*
IMAGE_SOURCE "BLACK AND WHITE FILM" b&w, cir, natural color, other*
SOURCE_IMAGE_ID "PAPP 5255 494" source image id*
SOURCE_IMAGE_DATE 1993 8 26 source image date as yyyy mm dd*
SOURCE_DEM_DATE 1996 4 19 source dem date yyyy mm dd*
AGENCY "WESTERN MAPPING CENTER (WMC)" oversight agency*
PRODUCER "Woolpert Consultants" producer/contractor*
PRODUCTION_SYSTEM "INTERGRAPH ISPM,ISIR" production system*
STANDARD_VERSION 1996 12 version of DOQ standard*
METADATA_DATE 1997 5 27 date created or changed, yyyy mm dd*
DATA_FILE_SIZE 45753000 data set size in bytes*
BYTE_COUNT 6040 header byte count* * * * * * * * * * * * * * * * * * * * * * * * * * * * * * * * *
END_USGS_HEADER *
