BEGIN_USGS_DOQ_HEADER *
QUADRANGLE_NAME "TOMHEAD MOUNTAIN" *
QUADRANT NE *
WEST_LONGITUDE -122 48 45.000 *
EAST_LONGITUDE -122 45 0.000 *
NORTH_LATITUDE 40 15 0.000 *
SOUTH_LATITUDE 40 11 15.000 *
PRODUCTION_DATE 2001 6 25 *
RASTER_ORDER LEFT_RIGHT/TOP_BOTTOM *
BAND_ORGANIZATION "SINGLE FILE" *
BAND_CONTENT BLACK&WHITE *
BITS_PER_PIXEL 8 *
SAMPLES_AND_LINES 6031 7564 *
HORIZONTAL_DATUM NAD83 *
HORIZONTAL_COORDINATE_SYSTEM UTM *
COORDINATE_ZONE 10 *
HORIZONTAL_UNITS METERS *
HORIZONTAL_RESOLUTION 1.0 *
SECONDARY_HORIZONTAL_DATUM NAD27 *
XY_ORIGIN 515551.176 4455835.345 *
SECONDARY_XY_ORIGIN 515647.350 4455639.083 *
NATION US *
STATE CA *
NW_QUAD_CORNER_XY 515946.428 4455522.233 *
NE_QUAD_CORNER_XY 521261.909 4455535.345 *
SE_QUAD_CORNER_XY 521281.454 4448598.183 *
SW_QUAD_CORNER_XY 515961.087 4448585.075 *
SECONDARY_NW_QUAD_XY 515946.851 4455311.710 *
SECONDARY_NE_QUAD_XY 521262.472 4455324.823 *
SECONDARY_SE_QUAD_XY 521282.017 4448387.781 *
SECONDARY_SW_QUAD_XY 515961.510 4448374.673 *
RMSE_XY 0.93 *
IMAGE_SOURCE "BLACK AND WHITE FILM" *
SOURCE_IMAGE_ID "NAPP 10476 215" *
SOURCE_IMAGE_DATE 1998 8 11 *
SOURCE_IMAGE_ID "NAPP 10476 216" *
SOURCE_IMAGE_DATE 1998 8 11 *
SOURCE_IMAGE_ID "NAPP 10476 214" *
SOURCE_IMAGE_DATE 1998 8 11 *
SOURCE_IMAGE_ID "NAPP 10484 75" *
SOURCE_IMAGE_DATE 1998 8 21 *
SOURCE_IMAGE_ID "NAPP 10484 76" *
SOURCE_IMAGE_DATE 1998 8 21 *
SOURCE_IMAGE_ID "NAPP 10484 77" *
SOURCE_IMAGE_DATE 1998 8 21 *
SOURCE_IMAGE_ID "NAPP 10476 221" *
SOURCE_IMAGE_DATE 1998 8 11 *
SOURCE_IMAGE_ID "NAPP 10476 222" *
SOURCE_IMAGE_DATE 1998 8 11 *
SOURCE_DEM_DATE 2000 0 0 *
AGENCY "WESTERN MAPPING CENTER (WMC)" *
PRODUCER "USDA FS GEOSPATIAL SERVICE AND TECHNOLOGY CENTER" *
PRODUCTION_SYSTEM "ORBIT OR_RECTIFY V.5.2" *
STANDARD_VERSION 1996 12 *
METADATA_DATE 2001 6 29 *
DATA_FILE_SIZE 45624515 *
BYTE_COUNT 6031 * * * * * * * * * * * * * * * * * * *
END_USGS_HEADER *
