BEGIN_USGS_DOQ_HEADER *
QUADRANGLE_NAME "NORTH YOLLA BOLLY MOUNTAINS" *
QUADRANT NW *
WEST_LONGITUDE -123 0 0.000 *
EAST_LONGITUDE -122 56 15.000 *
NORTH_LATITUDE 40 15 0.000 *
SOUTH_LATITUDE 40 11 15.000 *
PRODUCTION_DATE 2001 6 25 *
RASTER_ORDER LEFT_RIGHT/TOP_BOTTOM *
BAND_ORGANIZATION "SINGLE FILE" *
BAND_CONTENT BLACK&WHITE *
BITS_PER_PIXEL 8 *
SAMPLES_AND_LINES 6016 7553 *
HORIZONTAL_DATUM NAD83 *
HORIZONTAL_COORDINATE_SYSTEM UTM *
COORDINATE_ZONE 10 *
HORIZONTAL_UNITS METERS *
HORIZONTAL_RESOLUTION 1.0 *
SECONDARY_HORIZONTAL_DATUM NAD27 *
XY_ORIGIN 499603.921 4455806.747 *
SECONDARY_XY_ORIGIN 499700.000 4455610.393 *
NATION US *
STATE CA *
NW_QUAD_CORNER_XY 500000.000 4455505.374 *
NE_QUAD_CORNER_XY 505315.475 4455507.247 *
SE_QUAD_CORNER_XY 505320.361 4448570.095 *
SW_QUAD_CORNER_XY 500000.000 4448568.222 *
SECONDARY_NW_QUAD_XY 500000.001 4455294.851 *
SECONDARY_NE_QUAD_XY 505315.617 4455296.724 *
SECONDARY_SE_QUAD_XY 505320.503 4448359.692 *
SECONDARY_SW_QUAD_XY 500000.002 4448357.820 *
RMSE_XY 0.93 *
IMAGE_SOURCE "BLACK AND WHITE FILM" *
SOURCE_IMAGE_ID "NAPP 10484 29" *
SOURCE_IMAGE_DATE 1998 8 21 *
SOURCE_IMAGE_ID "NAPP 10484 30" *
SOURCE_IMAGE_DATE 1998 8 21 *
SOURCE_IMAGE_ID "NAPP 10484 28" *
SOURCE_IMAGE_DATE 1998 8 21 *
SOURCE_IMAGE_ID "NAPP 10483 23" *
SOURCE_IMAGE_DATE 1998 8 19 *
SOURCE_IMAGE_ID "NAPP 10483 24" *
SOURCE_IMAGE_DATE 1998 8 19 *
SOURCE_IMAGE_ID "NAPP 10483 25" *
SOURCE_IMAGE_DATE 1998 8 19 *
SOURCE_IMAGE_ID "NAPP 10484 25" *
SOURCE_IMAGE_DATE 1998 8 21 *
SOURCE_IMAGE_ID "NAPP 10484 26" *
SOURCE_IMAGE_DATE 1998 8 21 *
SOURCE_IMAGE_ID "NAPP 10484 27" *
SOURCE_IMAGE_DATE 1998 8 21 *
SOURCE_DEM_DATE 2000 0 0 *
AGENCY "WESTERN MAPPING CENTER (WMC)" *
PRODUCER "USDA FS GEOSPATIAL SERVICE AND TECHNOLOGY CENTER" *
PRODUCTION_SYSTEM "ORBIT OR_RECTIFY V.5.2" *
STANDARD_VERSION 1996 12 *
METADATA_DATE 2001 6 29 *
DATA_FILE_SIZE 45444864 *
BYTE_COUNT 6016 * * * * * * * * * * * * * * * * *
END_USGS_HEADER *
