BEGIN_USGS_DOQ_HEADER *
QUADRANGLE_NAME "NORTH YOLLA BOLLY MOUNTAINS" *
QUADRANT SE *
WEST_LONGITUDE -122 56 15.000 *
EAST_LONGITUDE -122 52 30.000 *
NORTH_LATITUDE 40 11 15.000 *
SOUTH_LATITUDE 40 7 30.000 *
PRODUCTION_DATE 2001 6 25 *
RASTER_ORDER LEFT_RIGHT/TOP_BOTTOM *
BAND_ORGANIZATION "SINGLE FILE" *
BAND_CONTENT BLACK&WHITE *
BITS_PER_PIXEL 8 *
SAMPLES_AND_LINES 6026 7557 *
HORIZONTAL_DATUM NAD83 *
HORIZONTAL_COORDINATE_SYSTEM UTM *
COORDINATE_ZONE 10 *
HORIZONTAL_UNITS METERS *
HORIZONTAL_RESOLUTION 1.0 *
SECONDARY_HORIZONTAL_DATUM NAD27 *
XY_ORIGIN 504924.494 4448875.212 *
SECONDARY_XY_ORIGIN 505020.507 4448678.934 *
NATION US *
STATE CA *
NW_QUAD_CORNER_XY 505320.361 4448570.095 *
NE_QUAD_CORNER_XY 510640.723 4448575.712 *
SE_QUAD_CORNER_XY 510650.483 4441638.633 *
SW_QUAD_CORNER_XY 505325.241 4441633.018 *
SECONDARY_NW_QUAD_XY 505320.503 4448359.692 *
SECONDARY_NE_QUAD_XY 510641.005 4448365.310 *
SECONDARY_SE_QUAD_XY 510650.765 4441428.352 *
SECONDARY_SW_QUAD_XY 505325.383 4441422.736 *
RMSE_XY 0.93 *
IMAGE_SOURCE "BLACK AND WHITE FILM" *
SOURCE_IMAGE_ID "NAPP 10484 24" *
SOURCE_IMAGE_DATE 1998 8 21 *
SOURCE_IMAGE_ID "NAPP 10484 23" *
SOURCE_IMAGE_DATE 1998 8 21 *
SOURCE_IMAGE_ID "NAPP 10484 25" *
SOURCE_IMAGE_DATE 1998 8 21 *
SOURCE_IMAGE_ID "NAPP 10484 32" *
SOURCE_IMAGE_DATE 1998 8 21 *
SOURCE_IMAGE_ID "NAPP 10484 31" *
SOURCE_IMAGE_DATE 1998 8 21 *
SOURCE_IMAGE_ID "NAPP 10484 30" *
SOURCE_IMAGE_DATE 1998 8 21 *
SOURCE_IMAGE_ID "NAPP 10484 73" *
SOURCE_IMAGE_DATE 1998 8 21 *
SOURCE_IMAGE_ID "NAPP 10484 74" *
SOURCE_IMAGE_DATE 1998 8 21 *
SOURCE_IMAGE_ID "NAPP 10484 75" *
SOURCE_IMAGE_DATE 1998 8 21 *
SOURCE_DEM_DATE 2000 0 0 *
AGENCY "WESTERN MAPPING CENTER (WMC)" *
PRODUCER "USDA FS GEOSPATIAL SERVICE AND TECHNOLOGY CENTER" *
PRODUCTION_SYSTEM "ORBIT OR_RECTIFY V.5.2" *
STANDARD_VERSION 1996 12 *
METADATA_DATE 2001 6 29 *
DATA_FILE_SIZE 45544508 *
BYTE_COUNT 6026 * * * * * * * * * * * * * * * * *
END_USGS_HEADER *
