BEGIN_USGS_DOQ_HEADER *
QUADRANGLE_NAME "DALES" *
QUADRANT SE *
WEST_LONGITUDE -122 3 45.0 *
EAST_LONGITUDE -122 0 0.0 *
NORTH_LATITUDE 40 18 45.0 *
SOUTH_LATITUDE 40 15 0.0 *
PRODUCTION_DATE 2001 3 21 *
RASTER_ORDER LEFT_RIGHT/TOP_BOTTOM *
BAND_ORGANIZATION "SINGLE FILE" *
BAND_CONTENT BLACK&WHITE *
BITS_PER_PIXEL 8 *
SAMPLES_AND_LINES 6091 7621 *
HORIZONTAL_DATUM NAD83 *
HORIZONTAL_COORDINATE_SYSTEM UTM *
COORDINATE_ZONE 10 *
HORIZONTAL_UNITS METERS *
HORIZONTAL_RESOLUTION 1.0 *
SECONDARY_HORIZONTAL_DATUM NAD27 *
XY_ORIGIN 579260.000 4463230.000 *
SECONDARY_XY_ORIGIN 579355.890 4463033.867 *
NATION US *
STATE CA *
NW_QUAD_CORNER_XY 579659.315 4462864.250 *
NE_QUAD_CORNER_XY 584970.022 4462922.347 *
SE_QUAD_CORNER_XY 585048.313 4455984.945 *
SW_QUAD_CORNER_XY 579732.712 4455926.869 *
SECONDARY_NW_QUAD_XY 579661.423 4462653.618 *
SECONDARY_NE_QUAD_XY 584972.271 4462711.717 *
SECONDARY_SE_QUAD_XY 585050.561 4455774.434 *
SECONDARY_SW_QUAD_XY 579734.819 4455716.356 *
RMSE_XY 0.699 *
IMAGE_SOURCE "Black and White film" *
SOURCE_IMAGE_ID "NAPP 10475-91" *
SOURCE_IMAGE_DATE 1998 08 11 *
SOURCE_DEM_DATE 1965 00 00 *
AGENCY "WESTERN MAPPING CENTER (WMC)" *
PRODUCER "Hammon, Jensen, Wallen & Associates" *
PRODUCTION_SYSTEM "ORTHOVIEW" *
STANDARD_VERSION 1996 12 *
METADATA_DATE 2001 3 21 *
DATA_FILE_SIZE 46425602 *
BYTE_COUNT 6091 * * * * * * * * * * * * * * * * * * * * * * * * * * * * * * * * * *
END_USGS_HEADER *
