BEGIN_USGS_DOQ_HEADER *
QUADRANGLE_NAME "BEND" *
QUADRANT NE *
WEST_LONGITUDE -122 11 15.0 *
EAST_LONGITUDE -122 7 30.0 *
NORTH_LATITUDE 40 22 30.0 *
SOUTH_LATITUDE 40 18 45.0 *
PRODUCTION_DATE 2001 3 21 *
RASTER_ORDER LEFT_RIGHT/TOP_BOTTOM *
BAND_ORGANIZATION "SINGLE FILE" *
BAND_CONTENT BLACK&WHITE *
BITS_PER_PIXEL 8 *
SAMPLES_AND_LINES 6071 7611 *
HORIZONTAL_DATUM NAD83 *
HORIZONTAL_COORDINATE_SYSTEM UTM *
COORDINATE_ZONE 10 *
HORIZONTAL_UNITS METERS *
HORIZONTAL_RESOLUTION 1.0 *
SECONDARY_HORIZONTAL_DATUM NAD27 *
XY_ORIGIN 568580.000 4470050.000 *
SECONDARY_XY_ORIGIN 568675.947 4469853.830 *
NATION US *
STATE CA *
NW_QUAD_CORNER_XY 568974.255 4469696.718 *
NE_QUAD_CORNER_XY 574280.031 4469747.336 *
SE_QUAD_CORNER_XY 574348.623 4462809.901 *
SW_QUAD_CORNER_XY 569037.946 4462759.302 *
SECONDARY_NW_QUAD_XY 568976.083 4469485.965 *
SECONDARY_NE_QUAD_XY 574282.001 4469536.584 *
SECONDARY_SE_QUAD_XY 574350.591 4462599.268 *
SECONDARY_SW_QUAD_XY 569039.774 4462548.667 *
RMSE_XY 0.639 *
IMAGE_SOURCE "Black and White film" *
SOURCE_IMAGE_ID "NAPP 10475-38" *
SOURCE_IMAGE_DATE 1998 08 11 *
SOURCE_DEM_DATE 1978 00 00 *
AGENCY "WESTERN MAPPING CENTER (WMC)" *
PRODUCER "Hammon, Jensen, Wallen & Associates" *
PRODUCTION_SYSTEM "ORTHOVIEW" *
STANDARD_VERSION 1996 12 *
METADATA_DATE 2001 3 21 *
DATA_FILE_SIZE 46212452 *
BYTE_COUNT 6071 * * * * * * * * * * * * * * * * * * * * * * * * * * * * * * * * *
END_USGS_HEADER *
