BEGIN_USGS_DOQ_HEADER *
QUADRANGLE_NAME "BEND" *
QUADRANT SE *
WEST_LONGITUDE -122 11 15.0 *
EAST_LONGITUDE -122 7 30.0 *
NORTH_LATITUDE 40 18 45.0 *
SOUTH_LATITUDE 40 15 0.0 *
PRODUCTION_DATE 2001 3 21 *
RASTER_ORDER LEFT_RIGHT/TOP_BOTTOM *
BAND_ORGANIZATION "SINGLE FILE" *
BAND_CONTENT BLACK&WHITE *
BITS_PER_PIXEL 8 *
SAMPLES_AND_LINES 6081 7611 *
HORIZONTAL_DATUM NAD83 *
HORIZONTAL_COORDINATE_SYSTEM UTM *
COORDINATE_ZONE 10 *
HORIZONTAL_UNITS METERS *
HORIZONTAL_RESOLUTION 1.0 *
SECONDARY_HORIZONTAL_DATUM NAD27 *
XY_ORIGIN 568640.000 4463110.000 *
SECONDARY_XY_ORIGIN 568735.962 4462913.880 *
NATION US *
STATE CA *
NW_QUAD_CORNER_XY 569037.946 4462759.302 *
NE_QUAD_CORNER_XY 574348.623 4462809.901 *
SE_QUAD_CORNER_XY 574417.126 4455872.540 *
SW_QUAD_CORNER_XY 569101.555 4455821.959 *
SECONDARY_NW_QUAD_XY 569039.774 4462548.667 *
SECONDARY_NE_QUAD_XY 574350.591 4462599.268 *
SECONDARY_SE_QUAD_XY 574419.093 4455662.026 *
SECONDARY_SW_QUAD_XY 569103.382 4455611.444 *
RMSE_XY 0.667 *
IMAGE_SOURCE "Black and White film" *
SOURCE_IMAGE_ID "NAPP 10475-40" *
SOURCE_IMAGE_DATE 1998 08 11 *
SOURCE_DEM_DATE 1978 00 00 *
AGENCY "WESTERN MAPPING CENTER (WMC)" *
PRODUCER "Hammon, Jensen, Wallen & Associates" *
PRODUCTION_SYSTEM "ORTHOVIEW" *
STANDARD_VERSION 1996 12 *
METADATA_DATE 2001 3 21 *
DATA_FILE_SIZE 46288572 *
BYTE_COUNT 6081 * * * * * * * * * * * * * * * * * * * * * * * * * * * * * * * * *
END_USGS_HEADER *
