BEGIN_USGS_DOQ_HEADER *
QUADRANGLE_NAME "BEND" *
QUADRANT SW *
WEST_LONGITUDE -122 15 0.0 *
EAST_LONGITUDE -122 11 15.0 *
NORTH_LATITUDE 40 18 45.0 *
SOUTH_LATITUDE 40 15 0.0 *
PRODUCTION_DATE 2001 3 21 *
RASTER_ORDER LEFT_RIGHT/TOP_BOTTOM *
BAND_ORGANIZATION "SINGLE FILE" *
BAND_CONTENT BLACK&WHITE *
BITS_PER_PIXEL 8 *
SAMPLES_AND_LINES 6081 7601 *
HORIZONTAL_DATUM NAD83 *
HORIZONTAL_COORDINATE_SYSTEM UTM *
COORDINATE_ZONE 10 *
HORIZONTAL_UNITS METERS *
HORIZONTAL_RESOLUTION 1.0 *
SECONDARY_HORIZONTAL_DATUM NAD27 *
XY_ORIGIN 563330.000 4463060.000 *
SECONDARY_XY_ORIGIN 563426.000 4462863.886 *
NATION US *
STATE CA *
NW_QUAD_CORNER_XY 563727.283 4462712.451 *
NE_QUAD_CORNER_XY 569037.946 4462759.302 *
SE_QUAD_CORNER_XY 569101.555 4455821.959 *
SW_QUAD_CORNER_XY 563785.998 4455775.125 *
SECONDARY_NW_QUAD_XY 563728.970 4462501.815 *
SECONDARY_NE_QUAD_XY 569039.774 4462548.667 *
SECONDARY_SE_QUAD_XY 569103.382 4455611.444 *
SECONDARY_SW_QUAD_XY 563787.684 4455564.609 *
RMSE_XY 0.633 *
IMAGE_SOURCE "Black and White film" *
SOURCE_IMAGE_ID "NAPP 10475-127" *
SOURCE_IMAGE_DATE 1998 08 11 *
SOURCE_DEM_DATE 1978 00 00 *
AGENCY "WESTERN MAPPING CENTER (WMC)" *
PRODUCER "Hammon, Jensen, Wallen & Associates" *
PRODUCTION_SYSTEM "ORTHOVIEW" *
STANDARD_VERSION 1996 12 *
METADATA_DATE 2001 3 21 *
DATA_FILE_SIZE 46227762 *
BYTE_COUNT 6081 * * * * * * * * * * * * * * * * * * * * * * * * * * * * * * * * *
END_USGS_HEADER *
