BEGIN_USGS_DOQ_HEADER *
QUADRANGLE_NAME "HOOKER" *
QUADRANT NW *
WEST_LONGITUDE -122 22 30.0 *
EAST_LONGITUDE -122 18 45.0 *
NORTH_LATITUDE 40 22 30.0 *
SOUTH_LATITUDE 40 18 45.0 *
PRODUCTION_DATE 2001 3 21 *
RASTER_ORDER LEFT_RIGHT/TOP_BOTTOM *
BAND_ORGANIZATION "SINGLE FILE" *
BAND_CONTENT BLACK&WHITE *
BITS_PER_PIXEL 8 *
SAMPLES_AND_LINES 6061 7601 *
HORIZONTAL_DATUM NAD83 *
HORIZONTAL_COORDINATE_SYSTEM UTM *
COORDINATE_ZONE 10 *
HORIZONTAL_UNITS METERS *
HORIZONTAL_RESOLUTION 1.0 *
SECONDARY_HORIZONTAL_DATUM NAD27 *
XY_ORIGIN 552660.000 4469910.000 *
SECONDARY_XY_ORIGIN 552756.119 4469713.806 *
NATION US *
STATE CA *
NW_QUAD_CORNER_XY 553057.001 4469567.364 *
NE_QUAD_CORNER_XY 558362.740 4469606.732 *
SE_QUAD_CORNER_XY 558416.632 4462669.348 *
SW_QUAD_CORNER_XY 553105.993 4462629.994 *
SECONDARY_NW_QUAD_XY 553058.407 4469356.608 *
SECONDARY_NE_QUAD_XY 558364.288 4469395.977 *
SECONDARY_SE_QUAD_XY 558418.178 4462458.711 *
SECONDARY_SW_QUAD_XY 553107.398 4462419.356 *
RMSE_XY 0.664 *
IMAGE_SOURCE "Black and White film" *
SOURCE_IMAGE_ID "NAPP 10491-14" *
SOURCE_IMAGE_DATE 1998 09 10 *
SOURCE_DEM_DATE 1965 00 00 *
AGENCY "WESTERN MAPPING CENTER (WMC)" *
PRODUCER "Hammon, Jensen, Wallen & Associates" *
PRODUCTION_SYSTEM "ORTHOVIEW" *
STANDARD_VERSION 1996 12 *
METADATA_DATE 2001 3 21 *
DATA_FILE_SIZE 46075722 *
BYTE_COUNT 6061 * * * * * * * * * * * * * * * * * * * * * * * * * * * * * * * * *
END_USGS_HEADER *
