BEGIN_USGS_DOQ_HEADER *
QUADRANGLE_NAME "HOOKER" *
QUADRANT SE *
WEST_LONGITUDE -122 18 45.0 *
EAST_LONGITUDE -122 15 0.0 *
NORTH_LATITUDE 40 18 45.0 *
SOUTH_LATITUDE 40 15 0.0 *
PRODUCTION_DATE 2001 3 21 *
RASTER_ORDER LEFT_RIGHT/TOP_BOTTOM *
BAND_ORGANIZATION "SINGLE FILE" *
BAND_CONTENT BLACK&WHITE *
BITS_PER_PIXEL 8 *
SAMPLES_AND_LINES 6071 7611 *
HORIZONTAL_DATUM NAD83 *
HORIZONTAL_COORDINATE_SYSTEM UTM *
COORDINATE_ZONE 10 *
HORIZONTAL_UNITS METERS *
HORIZONTAL_RESOLUTION 1.0 *
SECONDARY_HORIZONTAL_DATUM NAD27 *
XY_ORIGIN 558020.000 4463020.000 *
SECONDARY_XY_ORIGIN 558116.067 4462823.873 *
NATION US *
STATE CA *
NW_QUAD_CORNER_XY 558416.632 4462669.348 *
NE_QUAD_CORNER_XY 563727.283 4462712.451 *
SE_QUAD_CORNER_XY 563785.998 4455775.125 *
SW_QUAD_CORNER_XY 558470.454 4455732.039 *
SECONDARY_NW_QUAD_XY 558418.178 4462458.711 *
SECONDARY_NE_QUAD_XY 563728.970 4462501.815 *
SECONDARY_SE_QUAD_XY 563787.684 4455564.609 *
SECONDARY_SW_QUAD_XY 558471.999 4455521.521 *
RMSE_XY 0.647 *
IMAGE_SOURCE "Black and White film" *
SOURCE_IMAGE_ID "NAPP 10475-170" *
SOURCE_IMAGE_DATE 1998 08 11 *
SOURCE_DEM_DATE 1965 00 00 *
AGENCY "WESTERN MAPPING CENTER (WMC)" *
PRODUCER "Hammon, Jensen, Wallen & Associates" *
PRODUCTION_SYSTEM "ORTHOVIEW" *
STANDARD_VERSION 1996 12 *
METADATA_DATE 2001 3 21 *
DATA_FILE_SIZE 46212452 *
BYTE_COUNT 6071 * * * * * * * * * * * * * * * * * * * * * * * * * * * * * * * * *
END_USGS_HEADER *
