BEGIN_USGS_DOQ_HEADER *
QUADRANGLE_NAME "MITCHELL GULCH" *
QUADRANT NW *
WEST_LONGITUDE -122 30 0.0 *
EAST_LONGITUDE -122 26 15.0 *
NORTH_LATITUDE 40 22 30.0 *
SOUTH_LATITUDE 40 18 45.0 *
PRODUCTION_DATE 2001 3 21 *
RASTER_ORDER LEFT_RIGHT/TOP_BOTTOM *
BAND_ORGANIZATION "SINGLE FILE" *
BAND_CONTENT BLACK&WHITE *
BITS_PER_PIXEL 8 *
SAMPLES_AND_LINES 6051 7601 *
HORIZONTAL_DATUM NAD83 *
HORIZONTAL_COORDINATE_SYSTEM UTM *
COORDINATE_ZONE 10 *
HORIZONTAL_UNITS METERS *
HORIZONTAL_RESOLUTION 1.0 *
SECONDARY_HORIZONTAL_DATUM NAD27 *
XY_ORIGIN 542050.000 4469840.000 *
SECONDARY_XY_ORIGIN 542146.253 4469643.775 *
NATION US *
STATE CA *
NW_QUAD_CORNER_XY 542445.551 4469499.877 *
NE_QUAD_CORNER_XY 547751.271 4469531.746 *
SE_QUAD_CORNER_XY 547795.364 4462594.389 *
SW_QUAD_CORNER_XY 542484.744 4462562.532 *
SECONDARY_NW_QUAD_XY 542446.676 4469289.119 *
SECONDARY_NE_QUAD_XY 547752.537 4469320.988 *
SECONDARY_SE_QUAD_XY 547796.629 4462383.750 *
SECONDARY_SW_QUAD_XY 542485.868 4462351.892 *
RMSE_XY 0.642 *
IMAGE_SOURCE "Black and White film" *
SOURCE_IMAGE_ID "NAPP 10476-71" *
SOURCE_IMAGE_DATE 1998 08 11 *
SOURCE_DEM_DATE 1965 00 00 *
AGENCY "WESTERN MAPPING CENTER (WMC)" *
PRODUCER "Hammon, Jensen, Wallen & Associates" *
PRODUCTION_SYSTEM "ORTHOVIEW" *
STANDARD_VERSION 1996 12 *
METADATA_DATE 2001 3 21 *
DATA_FILE_SIZE 45999702 *
BYTE_COUNT 6051 * * * * * * * * * * * * * * * * * * * * * * * * * * * * * * * * *
END_USGS_HEADER *
