BEGIN_USGS_DOQ_HEADER *
QUADRANGLE_NAME "MITCHELL GULCH" *
QUADRANT SW *
WEST_LONGITUDE -122 30 0.0 *
EAST_LONGITUDE -122 26 15.0 *
NORTH_LATITUDE 40 18 45.0 *
SOUTH_LATITUDE 40 15 0.0 *
PRODUCTION_DATE 2001 3 21 *
RASTER_ORDER LEFT_RIGHT/TOP_BOTTOM *
BAND_ORGANIZATION "SINGLE FILE" *
BAND_CONTENT BLACK&WHITE *
BITS_PER_PIXEL 8 *
SAMPLES_AND_LINES 6061 7591 *
HORIZONTAL_DATUM NAD83 *
HORIZONTAL_COORDINATE_SYSTEM UTM *
COORDINATE_ZONE 10 *
HORIZONTAL_UNITS METERS *
HORIZONTAL_RESOLUTION 1.0 *
SECONDARY_HORIZONTAL_DATUM NAD27 *
XY_ORIGIN 542080.000 4462900.000 *
SECONDARY_XY_ORIGIN 542176.266 4462703.831 *
NATION US *
STATE CA *
NW_QUAD_CORNER_XY 542484.744 4462562.532 *
NE_QUAD_CORNER_XY 547795.364 4462594.389 *
SE_QUAD_CORNER_XY 547839.399 4455657.107 *
SW_QUAD_CORNER_XY 542523.886 4455625.261 *
SECONDARY_NW_QUAD_XY 542485.868 4462351.892 *
SECONDARY_NE_QUAD_XY 547796.629 4462383.750 *
SECONDARY_SE_QUAD_XY 547840.663 4455446.587 *
SECONDARY_SW_QUAD_XY 542525.010 4455414.741 *
RMSE_XY 0.623 *
IMAGE_SOURCE "Black and White film" *
SOURCE_IMAGE_ID "NAPP 10476-73" *
SOURCE_IMAGE_DATE 1998 08 11 *
SOURCE_DEM_DATE 1965 00 00 *
AGENCY "WESTERN MAPPING CENTER (WMC)" *
PRODUCER "Hammon, Jensen, Wallen & Associates" *
PRODUCTION_SYSTEM "ORTHOVIEW" *
STANDARD_VERSION 1996 12 *
METADATA_DATE 2001 3 21 *
DATA_FILE_SIZE 46015112 *
BYTE_COUNT 6061 * * * * * * * * * * * * * * * * * * * * * * * * * * * * * * * * *
END_USGS_HEADER *
