BEGIN_USGS_DOQ_HEADER *
QUADRANGLE_NAME "ROSEWOOD" *
QUADRANT SW *
WEST_LONGITUDE -122 37 30.0 *
EAST_LONGITUDE -122 33 45.0 *
NORTH_LATITUDE 40 18 45.0 *
SOUTH_LATITUDE 40 15 0.0 *
PRODUCTION_DATE 2001 3 21 *
RASTER_ORDER LEFT_RIGHT/TOP_BOTTOM *
BAND_ORGANIZATION "SINGLE FILE" *
BAND_CONTENT BLACK&WHITE *
BITS_PER_PIXEL 8 *
SAMPLES_AND_LINES 6051 7591 *
HORIZONTAL_DATUM NAD83 *
HORIZONTAL_COORDINATE_SYSTEM UTM *
COORDINATE_ZONE 10 *
HORIZONTAL_UNITS METERS *
HORIZONTAL_RESOLUTION 1.0 *
SECONDARY_HORIZONTAL_DATUM NAD27 *
XY_ORIGIN 531460.000 4462840.000 *
SECONDARY_XY_ORIGIN 531556.240 4462643.773 *
NATION US *
STATE CA *
NW_QUAD_CORNER_XY 531863.529 4462510.061 *
NE_QUAD_CORNER_XY 537174.133 4462534.422 *
SE_QUAD_CORNER_XY 537208.382 4455597.162 *
SW_QUAD_CORNER_XY 531892.885 4455572.810 *
SECONDARY_NW_QUAD_XY 531864.372 4462299.420 *
SECONDARY_NE_QUAD_XY 537175.117 4462323.782 *
SECONDARY_SE_QUAD_XY 537209.365 4455386.641 *
SECONDARY_SW_QUAD_XY 531893.728 4455362.288 *
RMSE_XY 0.616 *
IMAGE_SOURCE "Black and White film" *
SOURCE_IMAGE_ID "NAPP 10476-124" *
SOURCE_IMAGE_DATE 1998 08 11 *
SOURCE_DEM_DATE 1981 00 00 *
AGENCY "WESTERN MAPPING CENTER (WMC)" *
PRODUCER "Hammon, Jensen, Wallen & Associates" *
PRODUCTION_SYSTEM "ORTHOVIEW" *
STANDARD_VERSION 1996 12 *
METADATA_DATE 2001 3 21 *
DATA_FILE_SIZE 45939192 *
BYTE_COUNT 6051 * * * * * * * * * * * * * * * * * * * * * * * * * * * * * * * * *
END_USGS_HEADER *
