BEGIN_USGS_DOQ_HEADER *
QUADRANGLE_NAME "CHICKABALLY MOUNTAIN" *
QUADRANT NE *
WEST_LONGITUDE -122 41 15.0 *
EAST_LONGITUDE -122 37 30.0 *
NORTH_LATITUDE 40 22 30.0 *
SOUTH_LATITUDE 40 18 45.0 *
PRODUCTION_DATE 2001 3 21 *
RASTER_ORDER LEFT_RIGHT/TOP_BOTTOM *
BAND_ORGANIZATION "SINGLE FILE" *
BAND_CONTENT BLACK&WHITE *
BITS_PER_PIXEL 8 *
SAMPLES_AND_LINES 6041 7581 *
HORIZONTAL_DATUM NAD83 *
HORIZONTAL_COORDINATE_SYSTEM UTM *
COORDINATE_ZONE 10 *
HORIZONTAL_UNITS METERS *
HORIZONTAL_RESOLUTION 1.0 *
SECONDARY_HORIZONTAL_DATUM NAD27 *
XY_ORIGIN 526130.000 4469750.000 *
SECONDARY_XY_ORIGIN 526226.228 4469553.689 *
NATION US *
STATE CA *
NW_QUAD_CORNER_XY 526528.436 4469426.767 *
NE_QUAD_CORNER_XY 531834.135 4469447.388 *
SE_QUAD_CORNER_XY 531863.529 4462510.061 *
SW_QUAD_CORNER_XY 526552.931 4462489.448 *
SECONDARY_NW_QUAD_XY 526529.139 4469216.007 *
SECONDARY_NE_QUAD_XY 531834.978 4469236.628 *
SECONDARY_SE_QUAD_XY 531864.372 4462299.420 *
SECONDARY_SW_QUAD_XY 526553.634 4462278.806 *
RMSE_XY 0.658 *
IMAGE_SOURCE "Black and White film" *
SOURCE_IMAGE_ID "NAPP 10476-200" *
SOURCE_IMAGE_DATE 1998 08 11 *
SOURCE_DEM_DATE 1981 00 00 *
AGENCY "WESTERN MAPPING CENTER (WMC)" *
PRODUCER "Hammon, Jensen, Wallen & Associates" *
PRODUCTION_SYSTEM "ORTHOVIEW" *
STANDARD_VERSION 1996 12 *
METADATA_DATE 2001 3 21 *
DATA_FILE_SIZE 45802862 *
BYTE_COUNT 6041 * * * * * * * * * * * * * * * * * * * * * * * * * * * * * * * * *
END_USGS_HEADER *
