BEGIN_USGS_DOQ_HEADER *
QUADRANGLE_NAME "CHICKABALLY MOUNTAIN" *
QUADRANT NW *
WEST_LONGITUDE -122 45 0.0 *
EAST_LONGITUDE -122 41 15.0 *
NORTH_LATITUDE 40 22 30.0 *
SOUTH_LATITUDE 40 18 45.0 *
PRODUCTION_DATE 2001 3 21 *
RASTER_ORDER LEFT_RIGHT/TOP_BOTTOM *
BAND_ORGANIZATION "SINGLE FILE" *
BAND_CONTENT BLACK&WHITE *
BITS_PER_PIXEL 8 *
SAMPLES_AND_LINES 6041 7581 *
HORIZONTAL_DATUM NAD83 *
HORIZONTAL_COORDINATE_SYSTEM UTM *
COORDINATE_ZONE 10 *
HORIZONTAL_UNITS METERS *
HORIZONTAL_RESOLUTION 1.0 *
SECONDARY_HORIZONTAL_DATUM NAD27 *
XY_ORIGIN 520820.000 4469730.000 *
SECONDARY_XY_ORIGIN 520916.219 4469533.662 *
NATION US *
STATE CA *
NW_QUAD_CORNER_XY 521222.743 4469409.896 *
NE_QUAD_CORNER_XY 526528.436 4469426.767 *
SE_QUAD_CORNER_XY 526552.931 4462489.448 *
SW_QUAD_CORNER_XY 521242.339 4462472.583 *
SECONDARY_NW_QUAD_XY 521223.305 4469199.135 *
SECONDARY_NE_QUAD_XY 526529.139 4469216.007 *
SECONDARY_SE_QUAD_XY 526553.634 4462278.806 *
SECONDARY_SW_QUAD_XY 521242.901 4462261.941 *
RMSE_XY 0.551 *
IMAGE_SOURCE "Black and White film" *
SOURCE_IMAGE_ID "NAPP 10476-226" *
SOURCE_IMAGE_DATE 1998 08 11 *
SOURCE_DEM_DATE 1981 00 00 *
AGENCY "WESTERN MAPPING CENTER (WMC)" *
PRODUCER "Hammon, Jensen, Wallen & Associates" *
PRODUCTION_SYSTEM "ORTHOVIEW" *
STANDARD_VERSION 1996 12 *
METADATA_DATE 2001 3 21 *
DATA_FILE_SIZE 45802862 *
BYTE_COUNT 6041 * * * * * * * * * * * * * * * * * * * * * * * * * * * * * * * * *
END_USGS_HEADER *
