BEGIN_USGS_DOQ_HEADER *
QUADRANGLE_NAME "CHICKABALLY MOUNTAIN" *
QUADRANT SE *
WEST_LONGITUDE -122 41 15.0 *
EAST_LONGITUDE -122 37 30.0 *
NORTH_LATITUDE 40 18 45.0 *
SOUTH_LATITUDE 40 15 0.0 *
PRODUCTION_DATE 2001 3 21 *
RASTER_ORDER LEFT_RIGHT/TOP_BOTTOM *
BAND_ORGANIZATION "SINGLE FILE" *
BAND_CONTENT BLACK&WHITE *
BITS_PER_PIXEL 8 *
SAMPLES_AND_LINES 6051 7591 *
HORIZONTAL_DATUM NAD83 *
HORIZONTAL_COORDINATE_SYSTEM UTM *
COORDINATE_ZONE 10 *
HORIZONTAL_UNITS METERS *
HORIZONTAL_RESOLUTION 1.0 *
SECONDARY_HORIZONTAL_DATUM NAD27 *
XY_ORIGIN 526150.000 4462820.000 *
SECONDARY_XY_ORIGIN 526246.226 4462623.744 *
NATION US *
STATE CA *
NW_QUAD_CORNER_XY 526552.931 4462489.448 *
NE_QUAD_CORNER_XY 531863.529 4462510.061 *
SE_QUAD_CORNER_XY 531892.885 4455572.810 *
SW_QUAD_CORNER_XY 526577.394 4455552.204 *
SECONDARY_NW_QUAD_XY 526553.634 4462278.806 *
SECONDARY_NE_QUAD_XY 531864.372 4462299.420 *
SECONDARY_SE_QUAD_XY 531893.728 4455362.288 *
SECONDARY_SW_QUAD_XY 526578.097 4455341.682 *
RMSE_XY 0.675 *
IMAGE_SOURCE "Black and White film" *
SOURCE_IMAGE_ID "NAPP 10476-198" *
SOURCE_IMAGE_DATE 1998 08 11 *
SOURCE_DEM_DATE 1981 00 00 *
AGENCY "WESTERN MAPPING CENTER (WMC)" *
PRODUCER "Hammon, Jensen, Wallen & Associates" *
PRODUCTION_SYSTEM "ORTHOVIEW" *
STANDARD_VERSION 1996 12 *
METADATA_DATE 2001 3 21 *
DATA_FILE_SIZE 45939192 *
BYTE_COUNT 6051 * * * * * * * * * * * * * * * * * * * * * * * * * * * * * * * * *
END_USGS_HEADER *
