BEGIN_USGS_DOQ_HEADER *
QUADRANGLE_NAME "BEEGUM" *
QUADRANT NE *
WEST_LONGITUDE -122 48 45.000 *
EAST_LONGITUDE -122 45 0.000 *
NORTH_LATITUDE 40 22 30.000 *
SOUTH_LATITUDE 40 18 45.000 *
PRODUCTION_DATE 2001 6 25 *
RASTER_ORDER LEFT_RIGHT/TOP_BOTTOM *
BAND_ORGANIZATION "SINGLE FILE" *
BAND_CONTENT BLACK&WHITE *
BITS_PER_PIXEL 8 *
SAMPLES_AND_LINES 6021 7565 *
HORIZONTAL_DATUM NAD83 *
HORIZONTAL_COORDINATE_SYSTEM UTM *
COORDINATE_ZONE 10 *
HORIZONTAL_UNITS METERS *
HORIZONTAL_RESOLUTION 1.0 *
SECONDARY_HORIZONTAL_DATUM NAD27 *
XY_ORIGIN 515521.778 4469709.396 *
SECONDARY_XY_ORIGIN 515617.977 4469513.048 *
NATION US *
STATE CA *
NW_QUAD_CORNER_XY 515917.053 4469396.774 *
NE_QUAD_CORNER_XY 521222.743 4469409.896 *
SE_QUAD_CORNER_XY 521242.339 4462472.583 *
SW_QUAD_CORNER_XY 515931.750 4462459.466 *
SECONDARY_NW_QUAD_XY 515917.477 4469186.014 *
SECONDARY_NE_QUAD_XY 521223.307 4469199.136 *
SECONDARY_SE_QUAD_XY 521242.903 4462261.942 *
SECONDARY_SW_QUAD_XY 515932.174 4462248.824 *
RMSE_XY 0.93 *
IMAGE_SOURCE "BLACK AND WHITE FILM" *
SOURCE_IMAGE_ID "NAPP 10476 211" *
SOURCE_IMAGE_DATE 1998 8 11 *
SOURCE_IMAGE_ID "NAPP 10476 212" *
SOURCE_IMAGE_DATE 1998 8 11 *
SOURCE_IMAGE_ID "NAPP 10476 210" *
SOURCE_IMAGE_DATE 1998 8 11 *
SOURCE_IMAGE_ID "NAPP 10482 137" *
SOURCE_IMAGE_DATE 1998 8 14 *
SOURCE_IMAGE_ID "NAPP 10482 136" *
SOURCE_IMAGE_DATE 1998 8 14 *
SOURCE_IMAGE_ID "NAPP 10482 135" *
SOURCE_IMAGE_DATE 1998 8 14 *
SOURCE_DEM_DATE 1997 0 0 *
AGENCY "WESTERN MAPPING CENTER (WMC)" *
PRODUCER "USDA FS GEOSPATIAL SERVICE AND TECHNOLOGY CENTER" *
PRODUCTION_SYSTEM "ORBIT OR_RECTIFY V.5.2" *
STANDARD_VERSION 1996 12 *
METADATA_DATE 2001 6 29 *
DATA_FILE_SIZE 45554886 *
BYTE_COUNT 6021 * * * * * * * * * * * * * * * * * * * * * * *
END_USGS_HEADER *
