BEGIN_USGS_DOQ_HEADER *
QUADRANGLE_NAME "BEEGUM" 3.45 or 7.5-min. name*
QUADRANT NW quadrant indicator if cell size = 3.75-minutes*
WEST_LONGITUDE -122 52 30.000 signed deg min sec SDDD MM SS.SSS*
EAST_LONGITUDE -122 48 45.000 signed deg min sec SDDD MM SS.SSS*
NORTH_LATITUDE 40 22 30.000 signed deg min sec SDDD MM SS.SSS*
SOUTH_LATITUDE 40 18 45.000 signed deg min sec SDDD MM SS.SSS*
PRODUCTION_DATE 1996 4 18 yyyy mm dd*
RASTER_ORDER LEFT_RIGHT/TOP_BOTTOM video display order*
BAND_ORGANIZATION "SINGLE FILE" single file or BSQ, or BIL or BIP*
BAND_CONTENT BLACK&WHITE black&white or red green blue*
BITS_PER_PIXEL 8 radiometric resolution*
SAMPLES_AND_LINES 6027 7571 number of columns and rows*
HORIZONTAL_DATUM NAD83 primary horizontal datum*
HORIZONTAL_COORDINATE_SYSTEM UTM *
COORDINATE_ZONE 10 coordinate system zone number*
HORIZONTAL_UNITS METERS coordinate system units*
HORIZONTAL_RESOLUTION 1.00 pixel horiz. ground sample distance*
SECONDARY_HORIZONTAL_DATUM NAD27 secondary horizontal datum*
XY_ORIGIN 510210.500 4469701.500 coord. of upper left pixel pri. datum*
SECONDARY_XY_ORIGIN 510306.675 4469505.141 coord upper left pixel sec datum*
NATION US nation code*
STATE CA state fip code*
NW_QUAD_CORNER_XY 510611.367 4469387.401 XY coords. of pri. NW quad corner*
NE_QUAD_CORNER_XY 515917.053 4469396.774 XY coords. of pri. NE quad corner*
SE_QUAD_CORNER_XY 515931.750 4462459.466 XY coords. of pri. SE quad corner*
SW_QUAD_CORNER_XY 510621.165 4462450.096 XY coords. of pri. SW quad corner*
SECONDARY_NW_QUAD_XY 510611.649 4469176.639 XY coords. - sec. NW quad cor.*
SECONDARY_NE_QUAD_XY 515917.475 4469186.013 XY coords. - sec. NE quad cor.*
SECONDARY_SE_QUAD_XY 515932.172 4462248.823 XY coords. - sec. SE quad cor.*
SECONDARY_SW_QUAD_XY 510621.446 4462239.453 XY coords. - sec. SW quad cor.*
RMSE_XY 2.30 doq horiz. accuracy*
IMAGE_SOURCE "BLACK AND WHITE FILM" b&w, cir, natural color, other*
SOURCE_IMAGE_ID "PAPP 3253 565" source image id*
SOURCE_IMAGE_DATE 1993 7 25 source image date as yyyy mm dd*
IMAGE_SOURCE "BLACK AND WHITE FILM" b&w, cir, natural color, other*
SOURCE_IMAGE_ID "PAPP 3253 464" source image id*
SOURCE_IMAGE_DATE 1993 7 25 source image date as yyyy mm dd*
IMAGE_SOURCE "BLACK AND WHITE FILM" b&w, cir, natural color, other*
SOURCE_IMAGE_ID "PAPP 3253 666" source image id*
SOURCE_IMAGE_DATE 1993 7 25 source image date as yyyy mm dd*
SOURCE_DEM_DATE 1996 4 18 source dem date yyyy mm dd*
AGENCY "WESTERN MAPPING CENTER (WMC)" oversight agency*
PRODUCER "Woolpert Consultants" producer/contractor*
PRODUCTION_SYSTEM "INTERGRAPH ISPM,ISIR" production system*
STANDARD_VERSION 1996 12 version of DOQ standard*
METADATA_DATE 1997 5 27 date created or changed, yyyy mm dd*
DATA_FILE_SIZE 45636444 data set size in bytes*
BYTE_COUNT 6027 header byte count* * * * * * * * * * * * * * * * * * * * * * * * * * *
END_USGS_HEADER *
