BEGIN_USGS_DOQ_HEADER *
QUADRANGLE_NAME "BEEGUM" *
QUADRANT SE *
WEST_LONGITUDE -122 48 45.000 *
EAST_LONGITUDE -122 45 0.000 *
NORTH_LATITUDE 40 18 45.000 *
SOUTH_LATITUDE 40 15 0.000 *
PRODUCTION_DATE 2001 6 25 *
RASTER_ORDER LEFT_RIGHT/TOP_BOTTOM *
BAND_ORGANIZATION "SINGLE FILE" *
BAND_CONTENT BLACK&WHITE *
BITS_PER_PIXEL 8 *
SAMPLES_AND_LINES 6026 7565 *
HORIZONTAL_DATUM NAD83 *
HORIZONTAL_COORDINATE_SYSTEM UTM *
COORDINATE_ZONE 10 *
HORIZONTAL_UNITS METERS *
HORIZONTAL_RESOLUTION 1.0 *
SECONDARY_HORIZONTAL_DATUM NAD27 *
XY_ORIGIN 515535.986 4462772.083 *
SECONDARY_XY_ORIGIN 515632.173 4462575.778 *
NATION US *
STATE CA *
NW_QUAD_CORNER_XY 515931.750 4462459.466 *
NE_QUAD_CORNER_XY 521242.339 4462472.583 *
SE_QUAD_CORNER_XY 521261.909 4455535.345 *
SW_QUAD_CORNER_XY 515946.428 4455522.233 *
SECONDARY_NW_QUAD_XY 515932.174 4462248.824 *
SECONDARY_NE_QUAD_XY 521242.903 4462261.942 *
SECONDARY_SE_QUAD_XY 521262.472 4455324.823 *
SECONDARY_SW_QUAD_XY 515946.851 4455311.710 *
RMSE_XY 0.93 *
IMAGE_SOURCE "BLACK AND WHITE FILM" *
SOURCE_IMAGE_ID "NAPP 10476 213" *
SOURCE_IMAGE_DATE 1998 8 11 *
SOURCE_IMAGE_ID "NAPP 10476 214" *
SOURCE_IMAGE_DATE 1998 8 11 *
SOURCE_IMAGE_ID "NAPP 10476 212" *
SOURCE_IMAGE_DATE 1998 8 11 *
SOURCE_IMAGE_ID "NAPP 10484 77" *
SOURCE_IMAGE_DATE 1998 8 21 *
SOURCE_IMAGE_ID "NAPP 10482 138" *
SOURCE_IMAGE_DATE 1998 8 14 *
SOURCE_IMAGE_ID "NAPP 10482 137" *
SOURCE_IMAGE_DATE 1998 8 14 *
SOURCE_IMAGE_ID "NAPP 10476 223" *
SOURCE_IMAGE_DATE 1998 8 11 *
SOURCE_DEM_DATE 1997 0 0 *
AGENCY "WESTERN MAPPING CENTER (WMC)" *
PRODUCER "USDA FS GEOSPATIAL SERVICE AND TECHNOLOGY CENTER" *
PRODUCTION_SYSTEM "ORBIT OR_RECTIFY V.5.2" *
STANDARD_VERSION 1996 12 *
METADATA_DATE 2001 6 29 *
DATA_FILE_SIZE 45592716 *
BYTE_COUNT 6026 * * * * * * * * * * * * * * * * * * * * *
END_USGS_HEADER *
