BEGIN_USGS_DOQ_HEADER *
QUADRANGLE_NAME "BEEGUM" *
QUADRANT SW *
WEST_LONGITUDE -122 52 30.000 *
EAST_LONGITUDE -122 48 45.000 *
NORTH_LATITUDE 40 18 45.000 *
SOUTH_LATITUDE 40 15 0.000 *
PRODUCTION_DATE 2001 6 25 *
RASTER_ORDER LEFT_RIGHT/TOP_BOTTOM *
BAND_ORGANIZATION "SINGLE FILE" *
BAND_CONTENT BLACK&WHITE *
BITS_PER_PIXEL 8 *
SAMPLES_AND_LINES 6021 7561 *
HORIZONTAL_DATUM NAD83 *
HORIZONTAL_COORDINATE_SYSTEM UTM *
COORDINATE_ZONE 10 *
HORIZONTAL_UNITS METERS *
HORIZONTAL_RESOLUTION 1.0 *
SECONDARY_HORIZONTAL_DATUM NAD27 *
XY_ORIGIN 510225.787 4462758.966 *
SECONDARY_XY_ORIGIN 510321.947 4462562.640 *
NATION US *
STATE CA *
NW_QUAD_CORNER_XY 510621.165 4462450.096 *
NE_QUAD_CORNER_XY 515931.750 4462459.466 *
SE_QUAD_CORNER_XY 515946.428 4455522.233 *
SW_QUAD_CORNER_XY 510630.950 4455512.867 *
SECONDARY_NW_QUAD_XY 510621.448 4462239.454 *
SECONDARY_NE_QUAD_XY 515932.174 4462248.824 *
SECONDARY_SE_QUAD_XY 515946.851 4455311.710 *
SECONDARY_SW_QUAD_XY 510631.233 4455302.344 *
RMSE_XY 0.93 *
IMAGE_SOURCE "BLACK AND WHITE FILM" *
SOURCE_IMAGE_ID "NAPP 10482 138" *
SOURCE_IMAGE_DATE 1998 8 14 *
SOURCE_IMAGE_ID "NAPP 10484 77" *
SOURCE_IMAGE_DATE 1998 8 21 *
SOURCE_IMAGE_ID "NAPP 10482 137" *
SOURCE_IMAGE_DATE 1998 8 14 *
SOURCE_IMAGE_ID "NAPP 10484 27" *
SOURCE_IMAGE_DATE 1998 8 21 *
SOURCE_IMAGE_ID "NAPP 10482 141" *
SOURCE_IMAGE_DATE 1998 8 14 *
SOURCE_IMAGE_ID "NAPP 10482 142" *
SOURCE_IMAGE_DATE 1998 8 14 *
SOURCE_IMAGE_ID "NAPP 10476 214" *
SOURCE_IMAGE_DATE 1998 8 11 *
SOURCE_IMAGE_ID "NAPP 10476 213" *
SOURCE_IMAGE_DATE 1998 8 11 *
SOURCE_IMAGE_ID "NAPP 10476 212" *
SOURCE_IMAGE_DATE 1998 8 11 *
SOURCE_DEM_DATE 1997 0 0 *
AGENCY "WESTERN MAPPING CENTER (WMC)" *
PRODUCER "USDA FS GEOSPATIAL SERVICE AND TECHNOLOGY CENTER" *
PRODUCTION_SYSTEM "ORBIT OR_RECTIFY V.5.2" *
STANDARD_VERSION 1996 12 *
METADATA_DATE 2001 6 29 *
DATA_FILE_SIZE 45530802 *
BYTE_COUNT 6021 * * * * * * * * * * * * * * * * *
END_USGS_HEADER *
