BEGIN_USGS_DOQ_HEADER *
QUADRANGLE_NAME "PLATINA" *
QUADRANT NE *
WEST_LONGITUDE -122 56 15.000 *
EAST_LONGITUDE -122 52 30.000 *
NORTH_LATITUDE 40 22 30.000 *
SOUTH_LATITUDE 40 18 45.000 *
PRODUCTION_DATE 2001 6 25 *
RASTER_ORDER LEFT_RIGHT/TOP_BOTTOM *
BAND_ORGANIZATION "SINGLE FILE" *
BAND_CONTENT BLACK&WHITE *
BITS_PER_PIXEL 8 *
SAMPLES_AND_LINES 6011 7557 *
HORIZONTAL_DATUM NAD83 *
HORIZONTAL_COORDINATE_SYSTEM UTM *
COORDINATE_ZONE 10 *
HORIZONTAL_UNITS METERS *
HORIZONTAL_RESOLUTION 1.0 *
SECONDARY_HORIZONTAL_DATUM NAD27 *
XY_ORIGIN 504910.171 4469686.901 *
SECONDARY_XY_ORIGIN 505006.325 4469490.532 *
NATION US *
STATE CA *
NW_QUAD_CORNER_XY 505305.683 4469381.777 *
NE_QUAD_CORNER_XY 510611.367 4469387.401 *
SE_QUAD_CORNER_XY 510621.165 4462450.096 *
SW_QUAD_CORNER_XY 505310.582 4462444.474 *
SECONDARY_NW_QUAD_XY 505305.825 4469171.017 *
SECONDARY_NE_QUAD_XY 510611.650 4469176.640 *
SECONDARY_SE_QUAD_XY 510621.448 4462239.454 *
SECONDARY_SW_QUAD_XY 505310.724 4462233.832 *
RMSE_XY 0.93 *
IMAGE_SOURCE "BLACK AND WHITE FILM" *
SOURCE_IMAGE_ID "NAPP 10482 143" *
SOURCE_IMAGE_DATE 1998 8 14 *
SOURCE_IMAGE_ID "NAPP 10482 142" *
SOURCE_IMAGE_DATE 1998 8 14 *
SOURCE_IMAGE_ID "NAPP 10482 144" *
SOURCE_IMAGE_DATE 1998 8 14 *
SOURCE_IMAGE_ID "NAPP 10482 175" *
SOURCE_IMAGE_DATE 1998 8 14 *
SOURCE_IMAGE_ID "NAPP 10482 174" *
SOURCE_IMAGE_DATE 1998 8 14 *
SOURCE_IMAGE_ID "NAPP 10482 173" *
SOURCE_IMAGE_DATE 1998 8 14 *
SOURCE_IMAGE_ID "NAPP 10482 137" *
SOURCE_IMAGE_DATE 1998 8 14 *
SOURCE_IMAGE_ID "NAPP 10482 136" *
SOURCE_IMAGE_DATE 1998 8 14 *
SOURCE_IMAGE_ID "NAPP 10482 135" *
SOURCE_IMAGE_DATE 1998 8 14 *
SOURCE_DEM_DATE 1997 0 0 *
AGENCY "WESTERN MAPPING CENTER (WMC)" *
PRODUCER "USDA FS GEOSPATIAL SERVICE AND TECHNOLOGY CENTER" *
PRODUCTION_SYSTEM "ORBIT OR_RECTIFY V.5.2" *
STANDARD_VERSION 1996 12 *
METADATA_DATE 2001 6 29 *
DATA_FILE_SIZE 45431138 *
BYTE_COUNT 6011 * * * * * * * * * * * * * * * * *
END_USGS_HEADER *
