BEGIN_USGS_DOQ_HEADER *
QUADRANGLE_NAME "PLATINA" *
QUADRANT SE *
WEST_LONGITUDE -122 56 15.000 *
EAST_LONGITUDE -122 52 30.000 *
NORTH_LATITUDE 40 18 45.000 *
SOUTH_LATITUDE 40 15 0.000 *
PRODUCTION_DATE 2001 6 25 *
RASTER_ORDER LEFT_RIGHT/TOP_BOTTOM *
BAND_ORGANIZATION "SINGLE FILE" *
BAND_CONTENT BLACK&WHITE *
BITS_PER_PIXEL 8 *
SAMPLES_AND_LINES 6016 7557 *
HORIZONTAL_DATUM NAD83 *
HORIZONTAL_COORDINATE_SYSTEM UTM *
COORDINATE_ZONE 10 *
HORIZONTAL_UNITS METERS *
HORIZONTAL_RESOLUTION 1.0 *
SECONDARY_HORIZONTAL_DATUM NAD27 *
XY_ORIGIN 504914.591 4462749.596 *
SECONDARY_XY_ORIGIN 505010.724 4462553.249 *
NATION US *
STATE CA *
NW_QUAD_CORNER_XY 505310.582 4462444.474 *
NE_QUAD_CORNER_XY 510621.165 4462450.096 *
SE_QUAD_CORNER_XY 510630.950 4455512.867 *
SW_QUAD_CORNER_XY 505315.475 4455507.247 *
SECONDARY_NW_QUAD_XY 505310.724 4462233.832 *
SECONDARY_NE_QUAD_XY 510621.448 4462239.454 *
SECONDARY_SE_QUAD_XY 510631.233 4455302.344 *
SECONDARY_SW_QUAD_XY 505315.617 4455296.724 *
RMSE_XY 0.93 *
IMAGE_SOURCE "BLACK AND WHITE FILM" *
SOURCE_IMAGE_ID "NAPP 10482 141" *
SOURCE_IMAGE_DATE 1998 8 14 *
SOURCE_IMAGE_ID "NAPP 10484 27" *
SOURCE_IMAGE_DATE 1998 8 21 *
SOURCE_IMAGE_ID "NAPP 10482 142" *
SOURCE_IMAGE_DATE 1998 8 14 *
SOURCE_IMAGE_ID "NAPP 10484 28" *
SOURCE_IMAGE_DATE 1998 8 21 *
SOURCE_IMAGE_ID "NAPP 10482 176" *
SOURCE_IMAGE_DATE 1998 8 14 *
SOURCE_IMAGE_ID "NAPP 10482 175" *
SOURCE_IMAGE_DATE 1998 8 14 *
SOURCE_IMAGE_ID "NAPP 10484 77" *
SOURCE_IMAGE_DATE 1998 8 21 *
SOURCE_IMAGE_ID "NAPP 10482 138" *
SOURCE_IMAGE_DATE 1998 8 14 *
SOURCE_IMAGE_ID "NAPP 10482 137" *
SOURCE_IMAGE_DATE 1998 8 14 *
SOURCE_DEM_DATE 1997 0 0 *
AGENCY "WESTERN MAPPING CENTER (WMC)" *
PRODUCER "USDA FS GEOSPATIAL SERVICE AND TECHNOLOGY CENTER" *
PRODUCTION_SYSTEM "ORBIT OR_RECTIFY V.5.2" *
STANDARD_VERSION 1996 12 *
METADATA_DATE 2001 6 29 *
DATA_FILE_SIZE 45468928 *
BYTE_COUNT 6016 * * * * * * * * * * * * * * * * *
END_USGS_HEADER *
