BEGIN_USGS_DOQ_HEADER *
QUADRANGLE_NAME "PLATINA" *
QUADRANT SW *
WEST_LONGITUDE -123 0 0.000 *
EAST_LONGITUDE -122 56 15.000 *
NORTH_LATITUDE 40 18 45.000 *
SOUTH_LATITUDE 40 15 0.000 *
PRODUCTION_DATE 2001 6 25 *
RASTER_ORDER LEFT_RIGHT/TOP_BOTTOM *
BAND_ORGANIZATION "SINGLE FILE" *
BAND_CONTENT BLACK&WHITE *
BITS_PER_PIXEL 8 *
SAMPLES_AND_LINES 6012 7553 *
HORIZONTAL_DATUM NAD83 *
HORIZONTAL_COORDINATE_SYSTEM UTM *
COORDINATE_ZONE 10 *
HORIZONTAL_UNITS METERS *
HORIZONTAL_RESOLUTION 1.0 *
SECONDARY_HORIZONTAL_DATUM NAD27 *
XY_ORIGIN 499603.895 4462743.974 *
SECONDARY_XY_ORIGIN 499700.000 4462547.607 *
NATION US *
STATE CA *
NW_QUAD_CORNER_XY 500000.000 4462442.601 *
NE_QUAD_CORNER_XY 505310.582 4462444.474 *
SE_QUAD_CORNER_XY 505315.475 4455507.247 *
SW_QUAD_CORNER_XY 500000.000 4455505.374 *
SECONDARY_NW_QUAD_XY 500000.001 4462231.959 *
SECONDARY_NE_QUAD_XY 505310.724 4462233.832 *
SECONDARY_SE_QUAD_XY 505315.617 4455296.724 *
SECONDARY_SW_QUAD_XY 500000.001 4455294.851 *
RMSE_XY 0.93 *
IMAGE_SOURCE "BLACK AND WHITE FILM" *
SOURCE_IMAGE_ID "NAPP 10482 176" *
SOURCE_IMAGE_DATE 1998 8 14 *
SOURCE_IMAGE_ID "NAPP 10484 28" *
SOURCE_IMAGE_DATE 1998 8 21 *
SOURCE_IMAGE_ID "NAPP 10482 175" *
SOURCE_IMAGE_DATE 1998 8 14 *
SOURCE_IMAGE_ID "NAPP 10483 25" *
SOURCE_IMAGE_DATE 1998 8 19 *
SOURCE_IMAGE_ID "NAPP 10483 26" *
SOURCE_IMAGE_DATE 1998 8 19 *
SOURCE_IMAGE_ID "NAPP 10483 27" *
SOURCE_IMAGE_DATE 1998 8 19 *
SOURCE_IMAGE_ID "NAPP 10484 27" *
SOURCE_IMAGE_DATE 1998 8 21 *
SOURCE_IMAGE_ID "NAPP 10482 141" *
SOURCE_IMAGE_DATE 1998 8 14 *
SOURCE_IMAGE_ID "NAPP 10482 142" *
SOURCE_IMAGE_DATE 1998 8 14 *
SOURCE_DEM_DATE 1997 0 0 *
AGENCY "WESTERN MAPPING CENTER (WMC)" *
PRODUCER "USDA FS GEOSPATIAL SERVICE AND TECHNOLOGY CENTER" *
PRODUCTION_SYSTEM "ORBIT OR_RECTIFY V.5.2" *
STANDARD_VERSION 1996 12 *
METADATA_DATE 2001 6 29 *
DATA_FILE_SIZE 45414648 *
BYTE_COUNT 6012 * * * * * * * * * * * * * * * * *
END_USGS_HEADER *
