BEGIN_USGS_DOQ_HEADER *
QUADRANGLE_NAME "TUSCAN BUTTES NE" *
QUADRANT NE *
WEST_LONGITUDE -122 3 45.0 *
EAST_LONGITUDE -122 0 0.0 *
NORTH_LATITUDE 40 30 0.0 *
SOUTH_LATITUDE 40 26 15.0 *
PRODUCTION_DATE 2001 3 21 *
RASTER_ORDER LEFT_RIGHT/TOP_BOTTOM *
BAND_ORGANIZATION "SINGLE FILE" *
BAND_CONTENT BLACK&WHITE *
BITS_PER_PIXEL 8 *
SAMPLES_AND_LINES 6081 7621 *
HORIZONTAL_DATUM NAD83 *
HORIZONTAL_COORDINATE_SYSTEM UTM *
COORDINATE_ZONE 10 *
HORIZONTAL_UNITS METERS *
HORIZONTAL_RESOLUTION 1.0 *
SECONDARY_HORIZONTAL_DATUM NAD27 *
XY_ORIGIN 579040.000 4484040.000 *
SECONDARY_XY_ORIGIN 579135.865 4483843.709 *
NATION US *
STATE CA *
NW_QUAD_CORNER_XY 579438.553 4483676.832 *
NE_QUAD_CORNER_XY 584734.539 4483734.992 *
SE_QUAD_CORNER_XY 584813.135 4476797.371 *
SW_QUAD_CORNER_XY 579512.235 4476739.231 *
SECONDARY_NW_QUAD_XY 579440.665 4483465.847 *
SECONDARY_NE_QUAD_XY 584736.792 4483524.009 *
SECONDARY_SE_QUAD_XY 584815.387 4476586.504 *
SECONDARY_SW_QUAD_XY 579514.346 4476528.363 *
RMSE_XY 0.670 *
IMAGE_SOURCE "Black and White film" *
SOURCE_IMAGE_ID "NAPP 10475-97" *
SOURCE_IMAGE_DATE 1998 08 11 *
SOURCE_DEM_DATE 1965 00 00 *
AGENCY "WESTERN MAPPING CENTER (WMC)" *
PRODUCER "Hammon, Jensen, Wallen & Associates" *
PRODUCTION_SYSTEM "ORTHOVIEW" *
STANDARD_VERSION 1996 12 *
METADATA_DATE 2001 3 21 *
DATA_FILE_SIZE 46349382 *
BYTE_COUNT 6081 * * * * * * * * * * * * * * * * * * * * * * * * * * * * * * * * *
END_USGS_HEADER *
