BEGIN_USGS_DOQ_HEADER *
QUADRANGLE_NAME "TUSCAN BUTTES NE" *
QUADRANT NW *
WEST_LONGITUDE -122 7 30.0 *
EAST_LONGITUDE -122 3 45.0 *
NORTH_LATITUDE 40 30 0.0 *
SOUTH_LATITUDE 40 26 15.0 *
PRODUCTION_DATE 2001 3 21 *
RASTER_ORDER LEFT_RIGHT/TOP_BOTTOM *
BAND_ORGANIZATION "SINGLE FILE" *
BAND_CONTENT BLACK&WHITE *
BITS_PER_PIXEL 8 *
SAMPLES_AND_LINES 6081 7611 *
HORIZONTAL_DATUM NAD83 *
HORIZONTAL_COORDINATE_SYSTEM UTM *
COORDINATE_ZONE 10 *
HORIZONTAL_UNITS METERS *
HORIZONTAL_RESOLUTION 1.0 *
SECONDARY_HORIZONTAL_DATUM NAD27 *
XY_ORIGIN 573740.000 4483980.000 *
SECONDARY_XY_ORIGIN 573835.891 4483783.720 *
NATION US *
STATE CA *
NW_QUAD_CORNER_XY 574142.582 4483622.425 *
NE_QUAD_CORNER_XY 579438.553 4483676.832 *
SE_QUAD_CORNER_XY 579512.235 4476739.231 *
SW_QUAD_CORNER_XY 574211.351 4476684.844 *
SECONDARY_NW_QUAD_XY 574144.553 4483411.439 *
SECONDARY_NE_QUAD_XY 579440.665 4483465.847 *
SECONDARY_SE_QUAD_XY 579514.346 4476528.363 *
SECONDARY_SW_QUAD_XY 574213.321 4476473.974 *
RMSE_XY 0.602 *
IMAGE_SOURCE "Black and White film" *
SOURCE_IMAGE_ID "NAPP 10475-7" *
SOURCE_IMAGE_DATE 1998 08 11 *
SOURCE_DEM_DATE 1965 00 00 *
AGENCY "WESTERN MAPPING CENTER (WMC)" *
PRODUCER "Hammon, Jensen, Wallen & Associates" *
PRODUCTION_SYSTEM "ORTHOVIEW" *
STANDARD_VERSION 1996 12 *
METADATA_DATE 2001 3 21 *
DATA_FILE_SIZE 46288572 *
BYTE_COUNT 6081 * * * * * * * * * * * * * * * * * * * * * * * * * * * * * * * * *
END_USGS_HEADER *
