BEGIN_USGS_DOQ_HEADER *
QUADRANGLE_NAME "TUSCAN BUTTES NE" *
QUADRANT SE *
WEST_LONGITUDE -122 3 45.0 *
EAST_LONGITUDE -122 0 0.0 *
NORTH_LATITUDE 40 26 15.0 *
SOUTH_LATITUDE 40 22 30.0 *
PRODUCTION_DATE 2001 3 21 *
RASTER_ORDER LEFT_RIGHT/TOP_BOTTOM *
BAND_ORGANIZATION "SINGLE FILE" *
BAND_CONTENT BLACK&WHITE *
BITS_PER_PIXEL 8 *
SAMPLES_AND_LINES 6091 7621 *
HORIZONTAL_DATUM NAD83 *
HORIZONTAL_COORDINATE_SYSTEM UTM *
COORDINATE_ZONE 10 *
HORIZONTAL_UNITS METERS *
HORIZONTAL_RESOLUTION 1.0 *
SECONDARY_HORIZONTAL_DATUM NAD27 *
XY_ORIGIN 579110.000 4477100.000 *
SECONDARY_XY_ORIGIN 579205.874 4476903.762 *
NATION US *
STATE CA *
NW_QUAD_CORNER_XY 579512.235 4476739.231 *
NE_QUAD_CORNER_XY 584813.135 4476797.371 *
SE_QUAD_CORNER_XY 584891.629 4469859.823 *
SW_QUAD_CORNER_XY 579585.823 4469801.704 *
SECONDARY_NW_QUAD_XY 579514.346 4476528.363 *
SECONDARY_NE_QUAD_XY 584815.387 4476586.504 *
SECONDARY_SE_QUAD_XY 584893.880 4469649.074 *
SECONDARY_SW_QUAD_XY 579587.932 4469590.954 *
RMSE_XY 0.530 *
IMAGE_SOURCE "Black and White film" *
SOURCE_IMAGE_ID "NAPP 10475-95" *
SOURCE_IMAGE_DATE 1998 08 11 *
SOURCE_DEM_DATE 1965 00 00 *
AGENCY "WESTERN MAPPING CENTER (WMC)" *
PRODUCER "Hammon, Jensen, Wallen & Associates" *
PRODUCTION_SYSTEM "ORTHOVIEW" *
STANDARD_VERSION 1996 12 *
METADATA_DATE 2001 3 21 *
DATA_FILE_SIZE 46425602 *
BYTE_COUNT 6091 * * * * * * * * * * * * * * * * * * * * * * * * * * * * * * * * * *
END_USGS_HEADER *
