BEGIN_USGS_DOQ_HEADER *
QUADRANGLE_NAME "BALLS FERRY" *
QUADRANT NW *
WEST_LONGITUDE -122 15 0.0 *
EAST_LONGITUDE -122 11 15.0 *
NORTH_LATITUDE 40 30 0.0 *
SOUTH_LATITUDE 40 26 15.0 *
PRODUCTION_DATE 2001 3 21 *
RASTER_ORDER LEFT_RIGHT/TOP_BOTTOM *
BAND_ORGANIZATION "SINGLE FILE" *
BAND_CONTENT BLACK&WHITE *
BITS_PER_PIXEL 8 *
SAMPLES_AND_LINES 6071 7611 *
HORIZONTAL_DATUM NAD83 *
HORIZONTAL_COORDINATE_SYSTEM UTM *
COORDINATE_ZONE 10 *
HORIZONTAL_UNITS METERS *
HORIZONTAL_RESOLUTION 1.0 *
SECONDARY_HORIZONTAL_DATUM NAD27 *
XY_ORIGIN 563150.000 4483880.000 *
SECONDARY_XY_ORIGIN 563245.944 4483683.738 *
NATION US *
STATE CA *
NW_QUAD_CORNER_XY 563550.680 4483524.871 *
NE_QUAD_CORNER_XY 568846.624 4483571.772 *
SE_QUAD_CORNER_XY 568910.481 4476634.208 *
SW_QUAD_CORNER_XY 563609.624 4476587.323 *
SECONDARY_NW_QUAD_XY 563552.370 4483313.882 *
SECONDARY_NE_QUAD_XY 568848.455 4483360.784 *
SECONDARY_SE_QUAD_XY 568912.310 4476423.337 *
SECONDARY_SW_QUAD_XY 563611.313 4476376.451 *
RMSE_XY 0.703 *
IMAGE_SOURCE "Black and White film" *
SOURCE_IMAGE_ID "NAPP 10475-121" *
SOURCE_IMAGE_DATE 1998 08 11 *
SOURCE_DEM_DATE 1965 00 00 *
AGENCY "WESTERN MAPPING CENTER (WMC)" *
PRODUCER "Hammon, Jensen, Wallen & Associates" *
PRODUCTION_SYSTEM "ORTHOVIEW" *
STANDARD_VERSION 1996 12 *
METADATA_DATE 2001 3 21 *
DATA_FILE_SIZE 46212452 *
BYTE_COUNT 6071 * * * * * * * * * * * * * * * * * * * * * * * * * * * * * * * * *
END_USGS_HEADER *
