BEGIN_USGS_DOQ_HEADER *
QUADRANGLE_NAME "BALLS FERRY" *
QUADRANT SE *
WEST_LONGITUDE -122 11 15.0 *
EAST_LONGITUDE -122 7 30.0 *
NORTH_LATITUDE 40 26 15.0 *
SOUTH_LATITUDE 40 22 30.0 *
PRODUCTION_DATE 2001 3 21 *
RASTER_ORDER LEFT_RIGHT/TOP_BOTTOM *
BAND_ORGANIZATION "SINGLE FILE" *
BAND_CONTENT BLACK&WHITE *
BITS_PER_PIXEL 8 *
SAMPLES_AND_LINES 6081 7611 *
HORIZONTAL_DATUM NAD83 *
HORIZONTAL_COORDINATE_SYSTEM UTM *
COORDINATE_ZONE 10 *
HORIZONTAL_UNITS METERS *
HORIZONTAL_RESOLUTION 1.0 *
SECONDARY_HORIZONTAL_DATUM NAD27 *
XY_ORIGIN 568510.000 4476990.000 *
SECONDARY_XY_ORIGIN 568605.933 4476793.780 *
NATION US *
STATE CA *
NW_QUAD_CORNER_XY 568910.481 4476634.208 *
NE_QUAD_CORNER_XY 574211.351 4476684.844 *
SE_QUAD_CORNER_XY 574280.031 4469747.336 *
SW_QUAD_CORNER_XY 568974.255 4469696.718 *
SECONDARY_NW_QUAD_XY 568912.310 4476423.337 *
SECONDARY_NE_QUAD_XY 574213.321 4476473.974 *
SECONDARY_SE_QUAD_XY 574282.001 4469536.584 *
SECONDARY_SW_QUAD_XY 568976.083 4469485.965 *
RMSE_XY 0.604 *
IMAGE_SOURCE "Black and White film" *
SOURCE_IMAGE_ID "NAPP 10475-36" *
SOURCE_IMAGE_DATE 1998 08 11 *
SOURCE_DEM_DATE 1965 00 00 *
AGENCY "WESTERN MAPPING CENTER (WMC)" *
PRODUCER "Hammon, Jensen, Wallen & Associates" *
PRODUCTION_SYSTEM "ORTHOVIEW" *
STANDARD_VERSION 1996 12 *
METADATA_DATE 2001 3 21 *
DATA_FILE_SIZE 46288572 *
BYTE_COUNT 6081 * * * * * * * * * * * * * * * * * * * * * * * * * * * * * * * * *
END_USGS_HEADER *
