BEGIN_USGS_DOQ_HEADER *
QUADRANGLE_NAME "BALLS FERRY" *
QUADRANT SW *
WEST_LONGITUDE -122 15 0.0 *
EAST_LONGITUDE -122 11 15.0 *
NORTH_LATITUDE 40 26 15.0 *
SOUTH_LATITUDE 40 22 30.0 *
PRODUCTION_DATE 2001 3 22 *
RASTER_ORDER LEFT_RIGHT/TOP_BOTTOM *
BAND_ORGANIZATION "SINGLE FILE" *
BAND_CONTENT BLACK&WHITE *
BITS_PER_PIXEL 8 *
SAMPLES_AND_LINES 6071 7611 *
HORIZONTAL_DATUM NAD83 *
HORIZONTAL_COORDINATE_SYSTEM UTM *
COORDINATE_ZONE 10 *
HORIZONTAL_UNITS METERS *
HORIZONTAL_RESOLUTION 1.0 *
SECONDARY_HORIZONTAL_DATUM NAD27 *
XY_ORIGIN 563210.000 4476940.000 *
SECONDARY_XY_ORIGIN 563305.964 4476743.787 *
NATION US *
STATE CA *
NW_QUAD_CORNER_XY 563609.624 4476587.323 *
NE_QUAD_CORNER_XY 568910.481 4476634.208 *
SE_QUAD_CORNER_XY 568974.255 4469696.718 *
SW_QUAD_CORNER_XY 563668.491 4469649.850 *
SECONDARY_NW_QUAD_XY 563611.313 4476376.451 *
SECONDARY_NE_QUAD_XY 568912.310 4476423.337 *
SECONDARY_SE_QUAD_XY 568976.083 4469485.965 *
SECONDARY_SW_QUAD_XY 563670.179 4469439.096 *
RMSE_XY 0.676 *
IMAGE_SOURCE "Black and White film" *
SOURCE_IMAGE_ID "NAPP 10494-31" *
SOURCE_IMAGE_DATE 1999 07 29 *
SOURCE_DEM_DATE 1965 00 00 *
AGENCY "WESTERN MAPPING CENTER (WMC)" *
PRODUCER "Hammon, Jensen, Wallen & Associates" *
PRODUCTION_SYSTEM "ORTHOVIEW" *
STANDARD_VERSION 1996 12 *
METADATA_DATE 2001 3 22 *
DATA_FILE_SIZE 46212452 *
BYTE_COUNT 6071 * * * * * * * * * * * * * * * * * * * * * * * * * * * * * * * * *
END_USGS_HEADER *
