BEGIN_USGS_DOQ_HEADER *
QUADRANGLE_NAME "COTTONWOOD" *
QUADRANT SE *
WEST_LONGITUDE -122 18 45.0 *
EAST_LONGITUDE -122 15 0.0 *
NORTH_LATITUDE 40 26 15.0 *
SOUTH_LATITUDE 40 22 30.0 *
PRODUCTION_DATE 2001 3 21 *
RASTER_ORDER LEFT_RIGHT/TOP_BOTTOM *
BAND_ORGANIZATION "SINGLE FILE" *
BAND_CONTENT BLACK&WHITE *
BITS_PER_PIXEL 8 *
SAMPLES_AND_LINES 6061 7601 *
HORIZONTAL_DATUM NAD83 *
HORIZONTAL_COORDINATE_SYSTEM UTM *
COORDINATE_ZONE 10 *
HORIZONTAL_UNITS METERS *
HORIZONTAL_RESOLUTION 1.0 *
SECONDARY_HORIZONTAL_DATUM NAD27 *
XY_ORIGIN 557910.000 4476890.000 *
SECONDARY_XY_ORIGIN 558006.034 4476693.770 *
NATION US *
STATE CA *
NW_QUAD_CORNER_XY 558308.779 4476544.190 *
NE_QUAD_CORNER_XY 563609.624 4476587.323 *
SE_QUAD_CORNER_XY 563668.491 4469649.850 *
SW_QUAD_CORNER_XY 558362.740 4469606.732 *
SECONDARY_NW_QUAD_XY 558310.327 4476333.317 *
SECONDARY_NE_QUAD_XY 563611.313 4476376.451 *
SECONDARY_SE_QUAD_XY 563670.179 4469439.096 *
SECONDARY_SW_QUAD_XY 558364.288 4469395.977 *
RMSE_XY 0.613 *
IMAGE_SOURCE "Black and White film" *
SOURCE_IMAGE_ID "NAPP 10491-26" *
SOURCE_IMAGE_DATE 1998 09 10 *
SOURCE_DEM_DATE 1965 00 00 *
AGENCY "WESTERN MAPPING CENTER (WMC)" *
PRODUCER "Hammon, Jensen, Wallen & Associates" *
PRODUCTION_SYSTEM "ORTHOVIEW" *
STANDARD_VERSION 1996 12 *
METADATA_DATE 2001 3 21 *
DATA_FILE_SIZE 46075722 *
BYTE_COUNT 6061 * * * * * * * * * * * * * * * * * * * * * * * * * * * * * * * * *
END_USGS_HEADER *
