BEGIN_USGS_DOQ_HEADER *
QUADRANGLE_NAME "OLINDA" 3.45 or 7.5-min. name*
QUADRANT SE quadrant indicator if cell size = 3.75-minutes*
WEST_LONGITUDE -122 26 15.000 signed deg min sec SDDD MM SS.SSS*
EAST_LONGITUDE -122 22 30.000 signed deg min sec SDDD MM SS.SSS*
NORTH_LATITUDE 40 26 15.000 signed deg min sec SDDD MM SS.SSS*
SOUTH_LATITUDE 40 22 30.000 signed deg min sec SDDD MM SS.SSS*
PRODUCTION_DATE 1997 9 22 yyyy mm dd*
RASTER_ORDER left_right/top_bottom video display order*
BAND_ORGANIZATION "single file" single file or BSQ, or BIL or BIP*
BAND_CONTENT BLACK&WHITE black&white or red green blue*
BITS_PER_PIXEL 8 radiometric resolution*
SAMPLES_AND_LINES 6056 7598 number of columns and rows*
HORIZONTAL_DATUM NAD83 primary horizontal datum*
HORIZONTAL_COORDINATE_SYSTEM UTM *
COORDINATE_ZONE 10 coordinate system zone number*
HORIZONTAL_UNITS meters coordinate system units*
HORIZONTAL_RESOLUTION 1.00 pixel horiz. ground sample distance*
SECONDARY_HORIZONTAL_DATUM NAD27 secondary horizontal datum*
XY_ORIGIN 547307.000 4476810.000 coord. of upper left pixel pri. datum*
SECONDARY_XY_ORIGIN 547403.174 4476613.736 coord upper left pixel sec datum*
NATION US nation code*
STATE CA state fip code*
NW_QUAD_CORNER_XY 547707.122 4476469.177 XY coords. of pri. NW quad corner*
NE_QUAD_CORNER_XY 553007.945 4476504.808 XY coords. of pri. NE quad corner*
SE_QUAD_CORNER_XY 553057.001 4469567.364 XY coords. of pri. SE quad corner*
SW_QUAD_CORNER_XY 547751.271 4469531.745 XY coords. of pri. SW quad corner*
SECONDARY_NW_QUAD_XY 547708.389 4476258.302 XY coords. - sec. NW quad cor.*
SECONDARY_NE_QUAD_XY 553009.353 4476293.934 XY coords. - sec. NE quad cor.*
SECONDARY_SE_QUAD_XY 553058.407 4469356.607 XY coords. - sec. SE quad cor.*
SECONDARY_SW_QUAD_XY 547752.537 4469320.988 XY coords. - sec. SW quad cor.*
RMSE_XY 2.71 doq horiz. accuracy*
IMAGE_SOURCE "BLACK AND WHITE FILM" b&w, cir, natural color, other*
SOURCE_IMAGE_ID "NAPP 6249-160" source image id*
SOURCE_IMAGE_DATE 1993 6 13 source image date as yyyy mm dd*
SOURCE_DEM_DATE 1997 2 1 source dem date yyyy mm dd*
AGENCY "WESTERN MAPPING CENTER (WMC)" oversight agency*
PRODUCER "WOOLPERT LLP" producer/contractor*
PRODUCTION_SYSTEM "INTERGRAPH ISPM, ISIR" production system*
STANDARD_VERSION 1996 12 version of DOQ standard*
METADATA_DATE 1997 9 22 date created or changed, yyyy mm dd*
DATA_FILE_SIZE 46019544 data set size in bytes*
BYTE_COUNT 6056 header byte count* * * * * * * * * * * * * * * * * * * * * * * * * * * * * * * * *
END_USGS_HEADER *
