BEGIN_USGS_DOQ_HEADER *
QUADRANGLE_NAME "ONO" 3.45 or 7.5-min. name*
QUADRANT SW quadrant indicator if cell size = 3.75-minutes*
WEST_LONGITUDE -122 37 30.000 signed deg min sec SDDD MM SS.SSS*
EAST_LONGITUDE -122 33 45.000 signed deg min sec SDDD MM SS.SSS*
NORTH_LATITUDE 40 26 15.000 signed deg min sec SDDD MM SS.SSS*
SOUTH_LATITUDE 40 22 30.000 signed deg min sec SDDD MM SS.SSS*
PRODUCTION_DATE 1997 9 22 yyyy mm dd*
RASTER_ORDER left_right/top_bottom video display order*
BAND_ORGANIZATION "single file" single file or BSQ, or BIL or BIP*
BAND_CONTENT BLACK&WHITE black&white or red green blue*
BITS_PER_PIXEL 8 radiometric resolution*
SAMPLES_AND_LINES 6041 7588 number of columns and rows*
HORIZONTAL_DATUM NAD83 primary horizontal datum*
HORIZONTAL_COORDINATE_SYSTEM UTM *
COORDINATE_ZONE 10 coordinate system zone number*
HORIZONTAL_UNITS meters coordinate system units*
HORIZONTAL_RESOLUTION 1.00 pixel horiz. ground sample distance*
SECONDARY_HORIZONTAL_DATUM NAD27 secondary horizontal datum*
XY_ORIGIN 531404.000 4476715.000 coord. of upper left pixel pri. datum*
SECONDARY_XY_ORIGIN 531500.233 4476518.663 coord upper left pixel sec datum*
NATION US nation code*
STATE CA state fip code*
NW_QUAD_CORNER_XY 531804.702 4476384.789 XY coords. of pri. NW quad corner*
NE_QUAD_CORNER_XY 537105.501 4476409.167 XY coords. of pri. NE quad corner*
SE_QUAD_CORNER_XY 537139.839 4469471.757 XY coords. of pri. SE quad corner*
SW_QUAD_CORNER_XY 531834.135 4469447.387 XY coords. of pri. SW quad corner*
SECONDARY_NW_QUAD_XY 531805.547 4476173.911 XY coords. - sec. NW quad cor.*
SECONDARY_NE_QUAD_XY 537106.487 4476198.290 XY coords. - sec. NE quad cor.*
SECONDARY_SE_QUAD_XY 537140.824 4469260.998 XY coords. - sec. SE quad cor.*
SECONDARY_SW_QUAD_XY 531834.978 4469236.628 XY coords. - sec. SW quad cor.*
RMSE_XY 3.92 doq horiz. accuracy*
IMAGE_SOURCE "BLACK AND WHITE FILM" b&w, cir, natural color, other*
SOURCE_IMAGE_ID "NAPP 6249-099" source image id*
SOURCE_IMAGE_DATE 1993 6 13 source image date as yyyy mm dd*
SOURCE_DEM_DATE 1997 2 1 source dem date yyyy mm dd*
AGENCY "WESTERN MAPPING CENTER (WMC)" oversight agency*
PRODUCER "WOOLPERT LLP" producer/contractor*
PRODUCTION_SYSTEM "INTERGRAPH ISPM, ISIR" production system*
STANDARD_VERSION 1996 12 version of DOQ standard*
METADATA_DATE 1997 9 22 date created or changed, yyyy mm dd*
DATA_FILE_SIZE 45845149 data set size in bytes*
BYTE_COUNT 6041 header byte count* * * * * * * * * * * * * * * * * * * * * * * * * * * * * * * * *
END_USGS_HEADER *
