BEGIN_USGS_DOQ_HEADER *
QUADRANGLE_NAME "ARBUCKLE MOUNTAIN" 3.45 or 7.5-min. name*
QUADRANT SE quadrant indicator if cell size = 3.75-minutes*
WEST_LONGITUDE -122 48 45.000 signed deg min sec SDDD MM SS.SSS*
EAST_LONGITUDE -122 45 0.000 signed deg min sec SDDD MM SS.SSS*
NORTH_LATITUDE 40 26 15.000 signed deg min sec SDDD MM SS.SSS*
SOUTH_LATITUDE 40 22 30.000 signed deg min sec SDDD MM SS.SSS*
PRODUCTION_DATE 1999 12 31 yyyy mm dd*
RASTER_ORDER left_right/top_bottom video display order*
BAND_ORGANIZATION "single file" single file or BSQ, or BIL or BIP*
BAND_CONTENT BLACK&WHITE black&white or red green blue*
BITS_PER_PIXEL 8 radiometric resolution*
SAMPLES_AND_LINES 6027 7576 number of columns and rows*
HORIZONTAL_DATUM NAD83 primary horizontal datum*
HORIZONTAL_COORDINATE_SYSTEM UTM *
COORDINATE_ZONE 10 coordinate system zone number*
HORIZONTAL_UNITS meters coordinate system units*
HORIZONTAL_RESOLUTION 1.00 pixel horiz. ground sample distance*
SECONDARY_HORIZONTAL_DATUM NAD27 secondary horizontal datum*
XY_ORIGIN 515501.000 4476653.000 coord. of upper left pixel pri. datum*
SECONDARY_XY_ORIGIN 515597.209 4476456.610 coord upper left pixel sec datum*
NATION US nation code*
STATE CA state fip code*
NW_QUAD_CORNER_XY 515902.337 4476334.157 XY coords. of pri. NW quad corner*
NE_QUAD_CORNER_XY 521203.121 4476347.283 XY coords. of pri. NE quad corner*
SE_QUAD_CORNER_XY 521222.743 4469409.896 XY coords. of pri. SE quad corner*
SW_QUAD_CORNER_XY 515917.053 4469396.774 XY coords. of pri. SW quad corner*
SECONDARY_NW_QUAD_XY 515902.760 4476123.278 XY coords. - sec. NW quad cor.*
SECONDARY_NE_QUAD_XY 521203.684 4476136.405 XY coords. - sec. NE quad cor.*
SECONDARY_SE_QUAD_XY 521223.305 4469199.135 XY coords. - sec. SE quad cor.*
SECONDARY_SW_QUAD_XY 515917.475 4469186.013 XY coords. - sec. SW quad cor.*
RMSE_XY 4.14 doq horiz. accuracy*
IMAGE_SOURCE "BLACK AND WHITE FILM" b&w, cir, natural color, other*
SOURCE_IMAGE_ID "NAPP 6255-188" source image id*
SOURCE_IMAGE_DATE 1993 8 26 source image date as yyyy mm dd*
SOURCE_DEM_DATE 1997 2 1 source dem date yyyy mm dd*
AGENCY "WESTERN MAPPING CENTER (WMC)" oversight agency*
PRODUCER "WOOLPERT LLP" producer/contractor*
PRODUCTION_SYSTEM "INTERGRAPH ISPM, ISIR" production system*
STANDARD_VERSION 1996 12 version of DOQ standard*
METADATA_DATE 1997 9 22 date created or changed, yyyy mm dd*
DATA_FILE_SIZE 45666579 data set size in bytes*
BYTE_COUNT 6027 header byte count* * * * * * * * * * * * * * * * * * * * * * * * * * * * * * * * *
END_USGS_HEADER *
