BEGIN_USGS_DOQ_HEADER *
QUADRANGLE_NAME "ARBUCKLE MOUNTAIN" 3.45 or 7.5-min. name*
QUADRANT SW quadrant indicator if cell size = 3.75-minutes*
WEST_LONGITUDE -122 52 30.000 signed deg min sec SDDD MM SS.SSS*
EAST_LONGITUDE -122 48 45.000 signed deg min sec SDDD MM SS.SSS*
NORTH_LATITUDE 40 26 15.000 signed deg min sec SDDD MM SS.SSS*
SOUTH_LATITUDE 40 22 30.000 signed deg min sec SDDD MM SS.SSS*
PRODUCTION_DATE 1997 9 22 yyyy mm dd*
RASTER_ORDER left_right/top_bottom video display order*
BAND_ORGANIZATION "single file" single file or BSQ, or BIL or BIP*
BAND_CONTENT BLACK&WHITE black&white or red green blue*
BITS_PER_PIXEL 8 radiometric resolution*
SAMPLES_AND_LINES 6023 7573 number of columns and rows*
HORIZONTAL_DATUM NAD83 primary horizontal datum*
HORIZONTAL_COORDINATE_SYSTEM UTM *
COORDINATE_ZONE 10 coordinate system zone number*
HORIZONTAL_UNITS meters coordinate system units*
HORIZONTAL_RESOLUTION 1.00 pixel horiz. ground sample distance*
SECONDARY_HORIZONTAL_DATUM NAD27 secondary horizontal datum*
XY_ORIGIN 510200.000 4476640.000 coord. of upper left pixel pri. datum*
SECONDARY_XY_ORIGIN 510296.191 4476443.610 coord upper left pixel sec datum*
NATION US nation code*
STATE CA state fip code*
NW_QUAD_CORNER_XY 510601.557 4476324.780 XY coords. of pri. NW quad corner*
NE_QUAD_CORNER_XY 515902.337 4476334.157 XY coords. of pri. NE quad corner*
SE_QUAD_CORNER_XY 515917.053 4469396.774 XY coords. of pri. SE quad corner*
SW_QUAD_CORNER_XY 510611.367 4469387.401 XY coords. of pri. SW quad corner*
SECONDARY_NW_QUAD_XY 510601.838 4476113.901 XY coords. - sec. NW quad cor.*
SECONDARY_NE_QUAD_XY 515902.760 4476123.278 XY coords. - sec. NE quad cor.*
SECONDARY_SE_QUAD_XY 515917.475 4469186.013 XY coords. - sec. SE quad cor.*
SECONDARY_SW_QUAD_XY 510611.649 4469176.639 XY coords. - sec. SW quad cor.*
RMSE_XY 3.99 doq horiz. accuracy*
IMAGE_SOURCE "BLACK AND WHITE FILM" b&w, cir, natural color, other*
SOURCE_IMAGE_ID "NAPP 6253-063" source image id*
SOURCE_IMAGE_DATE 1993 7 25 source image date as yyyy mm dd*
SOURCE_IMAGE_ID "NAPP 6253-061" source image id*
SOURCE_IMAGE_DATE 1993 7 25 source image date as yyyy mm dd*
SOURCE_IMAGE_ID "NAPP 6255-188" source image id*
SOURCE_IMAGE_DATE 1993 8 26 source image date as yyyy mm dd*
SOURCE_DEM_DATE 1997 2 1 source dem date yyyy mm dd*
AGENCY "WESTERN MAPPING CENTER (WMC)" oversight agency*
PRODUCER "WOOLPERT LLP" producer/contractor*
PRODUCTION_SYSTEM "INTERGRAPH ISPM, ISIR" production system*
STANDARD_VERSION 1996 12 version of DOQ standard*
METADATA_DATE 1997 9 22 date created or changed, yyyy mm dd*
DATA_FILE_SIZE 45618202 data set size in bytes*
BYTE_COUNT 6023 header byte count* * * * * * * * * * * * * * * * * * * * * * * * * * * * *
END_USGS_HEADER *
