BEGIN_USGS_DOQ_HEADER *
QUADRANGLE_NAME "CHANCHELULLA PEAK" *
QUADRANT SE *
WEST_LONGITUDE -122 56 15.000 *
EAST_LONGITUDE -122 52 30.000 *
NORTH_LATITUDE 40 26 15.000 *
SOUTH_LATITUDE 40 22 30.000 *
PRODUCTION_DATE 2001 7 23 *
RASTER_ORDER LEFT_RIGHT/TOP_BOTTOM *
BAND_ORGANIZATION "SINGLE FILE" *
BAND_CONTENT BLACK&WHITE *
BITS_PER_PIXEL 8 *
SAMPLES_AND_LINES 6007 7557 *
HORIZONTAL_DATUM NAD83 *
HORIZONTAL_COORDINATE_SYSTEM UTM *
COORDINATE_ZONE 10 *
HORIZONTAL_UNITS METERS *
HORIZONTAL_RESOLUTION 1.0 *
SECONDARY_HORIZONTAL_DATUM NAD27 *
XY_ORIGIN 504905.245 4476624.280 *
SECONDARY_XY_ORIGIN 505001.420 4476427.891 *
NATION US *
STATE CA *
NW_QUAD_CORNER_XY 505300.778 4476319.155 *
NE_QUAD_CORNER_XY 510601.557 4476324.780 *
SE_QUAD_CORNER_XY 510611.367 4469387.401 *
SW_QUAD_CORNER_XY 505305.683 4469381.777 *
SECONDARY_NW_QUAD_XY 505300.920 4476108.277 *
SECONDARY_NE_QUAD_XY 510601.840 4476113.903 *
SECONDARY_SE_QUAD_XY 510611.650 4469176.640 *
SECONDARY_SW_QUAD_XY 505305.825 4469171.017 *
RMSE_XY 0.98 *
IMAGE_SOURCE "BLACK AND WHITE FILM" *
SOURCE_IMAGE_ID "NAPP 10482 145" *
SOURCE_IMAGE_DATE 1998 8 14 *
SOURCE_IMAGE_ID "NAPP 10482 144" *
SOURCE_IMAGE_DATE 1998 8 14 *
SOURCE_IMAGE_ID "NAPP 10482 146" *
SOURCE_IMAGE_DATE 1998 8 14 *
SOURCE_IMAGE_ID "NAPP 10482 173" *
SOURCE_IMAGE_DATE 1998 8 14 *
SOURCE_IMAGE_ID "NAPP 10482 172" *
SOURCE_IMAGE_DATE 1998 8 14 *
SOURCE_IMAGE_ID "NAPP 10482 171" *
SOURCE_IMAGE_DATE 1998 8 14 *
SOURCE_IMAGE_ID "NAPP 10482 135" *
SOURCE_IMAGE_DATE 1998 8 14 *
SOURCE_DEM_DATE 2000 0 0 *
AGENCY "WESTERN MAPPING CENTER (WMC)" *
PRODUCER "USDA FS GEOSPATIAL SERVICE AND TECHNOLOGY CENTER" *
PRODUCTION_SYSTEM "ORBIT OR_RECTIFY V.5.2" *
STANDARD_VERSION 1996 12 *
METADATA_DATE 2001 7 25 *
DATA_FILE_SIZE 45400906 *
BYTE_COUNT 6007 * * * * * * * * * * * * * * * * * * * * *
END_USGS_HEADER *
