BEGIN_USGS_DOQ_HEADER *
QUADRANGLE_NAME "CLOUGH GULCH" *
QUADRANT NE *
WEST_LONGITUDE -122 3 45.0 *
EAST_LONGITUDE -122 0 0.0 *
NORTH_LATITUDE 40 37 30.0 *
SOUTH_LATITUDE 40 33 45.0 *
PRODUCTION_DATE 2001 3 21 *
RASTER_ORDER LEFT_RIGHT/TOP_BOTTOM *
BAND_ORGANIZATION "SINGLE FILE" *
BAND_CONTENT BLACK&WHITE *
BITS_PER_PIXEL 8 *
SAMPLES_AND_LINES 6071 7631 *
HORIZONTAL_DATUM NAD83 *
HORIZONTAL_COORDINATE_SYSTEM UTM *
COORDINATE_ZONE 10 *
HORIZONTAL_UNITS METERS *
HORIZONTAL_RESOLUTION 1.0 *
SECONDARY_HORIZONTAL_DATUM NAD27 *
XY_ORIGIN 578890.000 4497920.000 *
SECONDARY_XY_ORIGIN 578985.808 4497723.527 *
NATION US *
STATE CA *
NW_QUAD_CORNER_XY 579290.903 4497552.253 *
NE_QUAD_CORNER_XY 584577.044 4497610.453 *
SE_QUAD_CORNER_XY 584655.842 4490672.686 *
SW_QUAD_CORNER_XY 579364.775 4490614.506 *
SECONDARY_NW_QUAD_XY 579293.018 4497341.037 *
SECONDARY_NE_QUAD_XY 584579.299 4497399.239 *
SECONDARY_SE_QUAD_XY 584658.096 4490461.587 *
SECONDARY_SW_QUAD_XY 579366.889 4490403.405 *
RMSE_XY 0.565 *
IMAGE_SOURCE "Black and White film" *
SOURCE_IMAGE_ID "NAPP 10475-101" *
SOURCE_IMAGE_DATE 1998 08 11 *
SOURCE_DEM_DATE 1985 00 00 *
AGENCY "WESTERN MAPPING CENTER (WMC)" *
PRODUCER "Hammon, Jensen, Wallen & Associates" *
PRODUCTION_SYSTEM "ORTHOVIEW" *
STANDARD_VERSION 1996 12 *
METADATA_DATE 2001 3 21 *
DATA_FILE_SIZE 46333872 *
BYTE_COUNT 6071 * * * * * * * * * * * * * * * * * * * * * * * * * * * * * * * * *
END_USGS_HEADER *
