BEGIN_USGS_DOQ_HEADER *
QUADRANGLE_NAME "CLOUGH GULCH" *
QUADRANT SE *
WEST_LONGITUDE -122 3 45.0 *
EAST_LONGITUDE -122 0 0.0 *
NORTH_LATITUDE 40 33 45.0 *
SOUTH_LATITUDE 40 30 0.0 *
PRODUCTION_DATE 2001 3 21 *
RASTER_ORDER LEFT_RIGHT/TOP_BOTTOM *
BAND_ORGANIZATION "SINGLE FILE" *
BAND_CONTENT BLACK&WHITE *
BITS_PER_PIXEL 8 *
SAMPLES_AND_LINES 6071 7621 *
HORIZONTAL_DATUM NAD83 *
HORIZONTAL_COORDINATE_SYSTEM UTM *
COORDINATE_ZONE 10 *
HORIZONTAL_UNITS METERS *
HORIZONTAL_RESOLUTION 1.0 *
SECONDARY_HORIZONTAL_DATUM NAD27 *
XY_ORIGIN 578970.000 4490980.000 *
SECONDARY_XY_ORIGIN 579065.837 4490783.618 *
NATION US *
STATE CA *
NW_QUAD_CORNER_XY 579364.775 4490614.506 *
NE_QUAD_CORNER_XY 584655.842 4490672.686 *
SE_QUAD_CORNER_XY 584734.539 4483734.992 *
SW_QUAD_CORNER_XY 579438.553 4483676.832 *
SECONDARY_NW_QUAD_XY 579366.889 4490403.405 *
SECONDARY_NE_QUAD_XY 584658.096 4490461.587 *
SECONDARY_SE_QUAD_XY 584736.792 4483524.009 *
SECONDARY_SW_QUAD_XY 579440.665 4483465.847 *
RMSE_XY 0.700 *
IMAGE_SOURCE "Black and White film" *
SOURCE_IMAGE_ID "NAPP 10475-99" *
SOURCE_IMAGE_DATE 1998 08 11 *
SOURCE_DEM_DATE 1985 00 00 *
AGENCY "WESTERN MAPPING CENTER (WMC)" *
PRODUCER "Hammon, Jensen, Wallen & Associates" *
PRODUCTION_SYSTEM "ORTHOVIEW" *
STANDARD_VERSION 1996 12 *
METADATA_DATE 2001 3 21 *
DATA_FILE_SIZE 46273162 *
BYTE_COUNT 6071 * * * * * * * * * * * * * * * * * * * * * * * * * * * * * * * * *
END_USGS_HEADER *
