BEGIN_USGS_DOQ_HEADER *
QUADRANGLE_NAME "PALO CEDRO" *
QUADRANT SW *
WEST_LONGITUDE -122 15 0.0 *
EAST_LONGITUDE -122 11 15.0 *
NORTH_LATITUDE 40 33 45.0 *
SOUTH_LATITUDE 40 30 0.0 *
PRODUCTION_DATE 2001 3 21 *
RASTER_ORDER LEFT_RIGHT/TOP_BOTTOM *
BAND_ORGANIZATION "SINGLE FILE" *
BAND_CONTENT BLACK&WHITE *
BITS_PER_PIXEL 8 *
SAMPLES_AND_LINES 6061 7601 *
HORIZONTAL_DATUM NAD83 *
HORIZONTAL_COORDINATE_SYSTEM UTM *
COORDINATE_ZONE 10 *
HORIZONTAL_UNITS METERS *
HORIZONTAL_RESOLUTION 1.0 *
SECONDARY_HORIZONTAL_DATUM NAD27 *
XY_ORIGIN 563090.000 4490810.000 *
SECONDARY_XY_ORIGIN 563185.893 4490613.673 *
NATION US *
STATE CA *
NW_QUAD_CORNER_XY 563491.661 4490462.492 *
NE_QUAD_CORNER_XY 568782.686 4490509.409 *
SE_QUAD_CORNER_XY 568846.624 4483571.772 *
SW_QUAD_CORNER_XY 563550.680 4483524.871 *
SECONDARY_NW_QUAD_XY 563493.352 4490251.387 *
SECONDARY_NE_QUAD_XY 568784.518 4490298.306 *
SECONDARY_SE_QUAD_XY 568848.455 4483360.784 *
SECONDARY_SW_QUAD_XY 563552.370 4483313.882 *
RMSE_XY 0.626 *
IMAGE_SOURCE "Black and White film" *
SOURCE_IMAGE_ID "NAPP 10475-119" *
SOURCE_IMAGE_DATE 1998 08 11 *
SOURCE_DEM_DATE 1965 00 00 *
AGENCY "WESTERN MAPPING CENTER (WMC)" *
PRODUCER "Hammon, Jensen, Wallen & Associates" *
PRODUCTION_SYSTEM "ORTHOVIEW" *
STANDARD_VERSION 1996 12 *
METADATA_DATE 2001 3 21 *
DATA_FILE_SIZE 46075722 *
BYTE_COUNT 6061 * * * * * * * * * * * * * * * * * * * * * * * * * * * * * * * * *
END_USGS_HEADER *
