BEGIN_USGS_DOQ_HEADER *
QUADRANGLE_NAME "ENTERPRISE" *
QUADRANT NE *
WEST_LONGITUDE -122 18 45.0 *
EAST_LONGITUDE -122 15 0.0 *
NORTH_LATITUDE 40 37 30.0 *
SOUTH_LATITUDE 40 33 45.0 *
PRODUCTION_DATE 2001 3 21 *
RASTER_ORDER LEFT_RIGHT/TOP_BOTTOM *
BAND_ORGANIZATION "SINGLE FILE" *
BAND_CONTENT BLACK&WHITE *
BITS_PER_PIXEL 8 *
SAMPLES_AND_LINES 6051 7611 *
HORIZONTAL_DATUM NAD83 *
HORIZONTAL_COORDINATE_SYSTEM UTM *
COORDINATE_ZONE 10 *
HORIZONTAL_UNITS METERS *
HORIZONTAL_RESOLUTION 1.0 *
SECONDARY_HORIZONTAL_DATUM NAD27 *
XY_ORIGIN 557750.000 4497710.000 *
SECONDARY_XY_ORIGIN 557845.918 4497513.591 *
NATION US *
STATE CA *
NW_QUAD_CORNER_XY 558146.477 4497357.009 *
NE_QUAD_CORNER_XY 563432.565 4497400.187 *
SE_QUAD_CORNER_XY 563491.661 4490462.492 *
SW_QUAD_CORNER_XY 558200.647 4490419.328 *
SECONDARY_NW_QUAD_XY 558148.028 4497145.788 *
SECONDARY_NE_QUAD_XY 563434.257 4497188.967 *
SECONDARY_SE_QUAD_XY 563493.352 4490251.387 *
SECONDARY_SW_QUAD_XY 558202.197 4490208.223 *
RMSE_XY 0.579 *
IMAGE_SOURCE "Black and White film" *
SOURCE_IMAGE_ID "NAPP 10491-32" *
SOURCE_IMAGE_DATE 1998 09 10 *
SOURCE_DEM_DATE 1969 00 00 *
AGENCY "WESTERN MAPPING CENTER (WMC)" *
PRODUCER "Hammon, Jensen, Wallen & Associates" *
PRODUCTION_SYSTEM "ORTHOVIEW" *
STANDARD_VERSION 1996 12 *
METADATA_DATE 2001 3 21 *
DATA_FILE_SIZE 46060212 *
BYTE_COUNT 6051 * * * * * * * * * * * * * * * * * * * * * * * * * * * * * * * * *
END_USGS_HEADER *
