BEGIN_USGS_DOQ_HEADER *
QUADRANGLE_NAME "ENTERPRISE" *
QUADRANT NW *
WEST_LONGITUDE -122 22 30.0 *
EAST_LONGITUDE -122 18 45.0 *
NORTH_LATITUDE 40 37 30.0 *
SOUTH_LATITUDE 40 33 45.0 *
PRODUCTION_DATE 2001 3 21 *
RASTER_ORDER LEFT_RIGHT/TOP_BOTTOM *
BAND_ORGANIZATION "SINGLE FILE" *
BAND_CONTENT BLACK&WHITE *
BITS_PER_PIXEL 8 *
SAMPLES_AND_LINES 6051 7601 *
HORIZONTAL_DATUM NAD83 *
HORIZONTAL_COORDINATE_SYSTEM UTM *
COORDINATE_ZONE 10 *
HORIZONTAL_UNITS METERS *
HORIZONTAL_RESOLUTION 1.0 *
SECONDARY_HORIZONTAL_DATUM NAD27 *
XY_ORIGIN 552460.000 4497660.000 *
SECONDARY_XY_ORIGIN 552555.995 4497463.575 *
NATION US *
STATE CA *
NW_QUAD_CORNER_XY 552860.400 4497317.586 *
NE_QUAD_CORNER_XY 558146.477 4497357.009 *
SE_QUAD_CORNER_XY 558200.647 4490419.328 *
SW_QUAD_CORNER_XY 552909.645 4490379.919 *
SECONDARY_NW_QUAD_XY 552861.810 4497106.364 *
SECONDARY_NE_QUAD_XY 558148.028 4497145.788 *
SECONDARY_SE_QUAD_XY 558202.197 4490208.223 *
SECONDARY_SW_QUAD_XY 552911.054 4490168.812 *
RMSE_XY 0.659 *
IMAGE_SOURCE "Black and White film" *
SOURCE_IMAGE_ID "NAPP 10475-199" *
SOURCE_IMAGE_DATE 1998 08 11 *
SOURCE_DEM_DATE 1969 00 00 *
AGENCY "WESTERN MAPPING CENTER (WMC)" *
PRODUCER "Hammon, Jensen, Wallen & Associates" *
PRODUCTION_SYSTEM "ORTHOVIEW" *
STANDARD_VERSION 1996 12 *
METADATA_DATE 2001 3 21 *
DATA_FILE_SIZE 45999702 *
BYTE_COUNT 6051 * * * * * * * * * * * * * * * * * * * * * * * * * * * * * * * * *
END_USGS_HEADER *
