BEGIN_USGS_DOQ_HEADER *
QUADRANGLE_NAME "REDDING" *
QUADRANT NE *
WEST_LONGITUDE -122 26 15.0 *
EAST_LONGITUDE -122 22 30.0 *
NORTH_LATITUDE 40 37 30.0 *
SOUTH_LATITUDE 40 33 45.0 *
PRODUCTION_DATE 2001 3 22 *
RASTER_ORDER LEFT_RIGHT/TOP_BOTTOM *
BAND_ORGANIZATION "SINGLE FILE" *
BAND_CONTENT BLACK&WHITE *
BITS_PER_PIXEL 8 *
SAMPLES_AND_LINES 6041 7601 *
HORIZONTAL_DATUM NAD83 *
HORIZONTAL_COORDINATE_SYSTEM UTM *
COORDINATE_ZONE 10 *
HORIZONTAL_UNITS METERS *
HORIZONTAL_RESOLUTION 1.0 *
SECONDARY_HORIZONTAL_DATUM NAD27 *
XY_ORIGIN 547170.000 4497620.000 *
SECONDARY_XY_ORIGIN 547266.072 4497423.559 *
NATION US *
STATE CA *
NW_QUAD_CORNER_XY 547574.332 4497281.918 *
NE_QUAD_CORNER_XY 552860.400 4497317.586 *
SE_QUAD_CORNER_XY 552909.645 4490379.919 *
SW_QUAD_CORNER_XY 547618.652 4490344.263 *
SECONDARY_NW_QUAD_XY 547575.601 4497070.695 *
SECONDARY_NE_QUAD_XY 552861.810 4497106.364 *
SECONDARY_SE_QUAD_XY 552911.054 4490168.812 *
SECONDARY_SW_QUAD_XY 547619.921 4490133.155 *
RMSE_XY 0.556 *
IMAGE_SOURCE "Black and White film" *
SOURCE_IMAGE_ID "NAPP 10476-36" *
SOURCE_IMAGE_DATE 1998 08 11 *
SOURCE_DEM_DATE 1957 00 00 *
AGENCY "WESTERN MAPPING CENTER (WMC)" *
PRODUCER "Hammon, Jensen, Wallen & Associates" *
PRODUCTION_SYSTEM "ORTHOVIEW" *
STANDARD_VERSION 1996 12 *
METADATA_DATE 2001 3 22 *
DATA_FILE_SIZE 45923682 *
BYTE_COUNT 6041 * * * * * * * * * * * * * * * * * * * * * * * * * * * * * * * * *
END_USGS_HEADER *
