BEGIN_USGS_DOQ_HEADER *
QUADRANGLE_NAME "REDDING" *
QUADRANT SE *
WEST_LONGITUDE -122 26 15.0 *
EAST_LONGITUDE -122 22 30.0 *
NORTH_LATITUDE 40 33 45.0 *
SOUTH_LATITUDE 40 30 0.0 *
PRODUCTION_DATE 2001 3 22 *
RASTER_ORDER LEFT_RIGHT/TOP_BOTTOM *
BAND_ORGANIZATION "SINGLE FILE" *
BAND_CONTENT BLACK&WHITE *
BITS_PER_PIXEL 8 *
SAMPLES_AND_LINES 6041 7591 *
HORIZONTAL_DATUM NAD83 *
HORIZONTAL_COORDINATE_SYSTEM UTM *
COORDINATE_ZONE 10 *
HORIZONTAL_UNITS METERS *
HORIZONTAL_RESOLUTION 1.0 *
SECONDARY_HORIZONTAL_DATUM NAD27 *
XY_ORIGIN 547220.000 4490680.000 *
SECONDARY_XY_ORIGIN 547316.115 4490483.620 *
NATION US *
STATE CA *
NW_QUAD_CORNER_XY 547618.652 4490344.263 *
NE_QUAD_CORNER_XY 552909.645 4490379.919 *
SE_QUAD_CORNER_XY 552958.827 4483442.326 *
SW_QUAD_CORNER_XY 547662.916 4483406.682 *
SECONDARY_NW_QUAD_XY 547619.921 4490133.155 *
SECONDARY_NE_QUAD_XY 552911.054 4490168.812 *
SECONDARY_SE_QUAD_XY 552960.235 4483231.335 *
SECONDARY_SW_QUAD_XY 547664.183 4483195.691 *
RMSE_XY 0.530 *
IMAGE_SOURCE "Black and White film" *
SOURCE_IMAGE_ID "NAPP 10476-34" *
SOURCE_IMAGE_DATE 1998 08 11 *
SOURCE_DEM_DATE 1957 00 00 *
AGENCY "WESTERN MAPPING CENTER (WMC)" *
PRODUCER "Hammon, Jensen, Wallen & Associates" *
PRODUCTION_SYSTEM "ORTHOVIEW" *
STANDARD_VERSION 1996 12 *
METADATA_DATE 2001 3 22 *
DATA_FILE_SIZE 45863272 *
BYTE_COUNT 6041 * * * * * * * * * * * * * * * * * * * * * * * * * * * * * * * * *
END_USGS_HEADER *
