BEGIN_USGS_DOQ_HEADER *
QUADRANGLE_NAME "HOOSIMBIM MOUNTAIN" *
QUADRANT NE *
WEST_LONGITUDE -122 56 15.000 *
EAST_LONGITUDE -122 52 30.000 *
NORTH_LATITUDE 40 37 30.000 *
SOUTH_LATITUDE 40 33 45.000 *
PRODUCTION_DATE 2001 7 23 *
RASTER_ORDER LEFT_RIGHT/TOP_BOTTOM *
BAND_ORGANIZATION "SINGLE FILE" *
BAND_CONTENT BLACK&WHITE *
BITS_PER_PIXEL 8 *
SAMPLES_AND_LINES 5992 7558 *
HORIZONTAL_DATUM NAD83 *
HORIZONTAL_COORDINATE_SYSTEM UTM *
COORDINATE_ZONE 10 *
HORIZONTAL_UNITS METERS *
HORIZONTAL_RESOLUTION 1.0 *
SECONDARY_HORIZONTAL_DATUM NAD27 *
XY_ORIGIN 504889.980 4497437.371 *
SECONDARY_XY_ORIGIN 504986.167 4497240.878 *
NATION US *
STATE CA *
NW_QUAD_CORNER_XY 505286.024 4497131.739 *
NE_QUAD_CORNER_XY 510572.049 4497137.371 *
SE_QUAD_CORNER_XY 510581.897 4490199.765 *
SW_QUAD_CORNER_XY 505290.948 4490194.136 *
SECONDARY_NW_QUAD_XY 505286.167 4496920.514 *
SECONDARY_NE_QUAD_XY 510572.333 4496926.145 *
SECONDARY_SE_QUAD_XY 510582.181 4489988.655 *
SECONDARY_SW_QUAD_XY 505291.091 4489983.025 *
RMSE_XY 0.98 *
IMAGE_SOURCE "BLACK AND WHITE FILM" *
SOURCE_IMAGE_ID "NAPP 10482 151" *
SOURCE_IMAGE_DATE 1998 8 14 *
SOURCE_IMAGE_ID "NAPP 10482 150" *
SOURCE_IMAGE_DATE 1998 8 14 *
SOURCE_IMAGE_ID "NAPP 10482 152" *
SOURCE_IMAGE_DATE 1998 8 14 *
SOURCE_IMAGE_ID "NAPP 10482 167" *
SOURCE_IMAGE_DATE 1998 8 14 *
SOURCE_IMAGE_ID "NAPP 10482 166" *
SOURCE_IMAGE_DATE 1998 8 14 *
SOURCE_IMAGE_ID "NAPP 10482 165" *
SOURCE_IMAGE_DATE 1998 8 14 *
SOURCE_IMAGE_ID "NAPP 10482 127" *
SOURCE_IMAGE_DATE 1998 8 14 *
SOURCE_DEM_DATE 2000 0 0 *
AGENCY "WESTERN MAPPING CENTER (WMC)" *
PRODUCER "USDA FS GEOSPATIAL SERVICE AND TECHNOLOGY CENTER" *
PRODUCTION_SYSTEM "ORBIT OR_RECTIFY V.5.2" *
STANDARD_VERSION 1996 12 *
METADATA_DATE 2001 7 25 *
DATA_FILE_SIZE 45293528 *
BYTE_COUNT 5992 * * * * * * * * * * * * * * * * * * * *
END_USGS_HEADER *
