BEGIN_USGS_DOQ_HEADER *
QUADRANGLE_NAME "HOOSIMBIM MOUNTAIN" *
QUADRANT SE *
WEST_LONGITUDE -122 56 15.000 *
EAST_LONGITUDE -122 52 30.000 *
NORTH_LATITUDE 40 33 45.000 *
SOUTH_LATITUDE 40 30 0.000 *
PRODUCTION_DATE 2001 7 23 *
RASTER_ORDER LEFT_RIGHT/TOP_BOTTOM *
BAND_ORGANIZATION "SINGLE FILE" *
BAND_CONTENT BLACK&WHITE *
BITS_PER_PIXEL 8 *
SAMPLES_AND_LINES 5997 7558 *
HORIZONTAL_DATUM NAD83 *
HORIZONTAL_COORDINATE_SYSTEM UTM *
COORDINATE_ZONE 10 *
HORIZONTAL_UNITS METERS *
HORIZONTAL_RESOLUTION 1.0 *
SECONDARY_HORIZONTAL_DATUM NAD27 *
XY_ORIGIN 504895.399 4490499.765 *
SECONDARY_XY_ORIGIN 504991.590 4490303.313 *
NATION US *
STATE CA *
NW_QUAD_CORNER_XY 505290.948 4490194.136 *
NE_QUAD_CORNER_XY 510581.897 4490199.765 *
SE_QUAD_CORNER_XY 510591.733 4483262.235 *
SW_QUAD_CORNER_XY 505295.866 4483256.608 *
SECONDARY_NW_QUAD_XY 505291.091 4489983.025 *
SECONDARY_NE_QUAD_XY 510582.181 4489988.655 *
SECONDARY_SE_QUAD_XY 510592.017 4483051.241 *
SECONDARY_SW_QUAD_XY 505296.009 4483045.613 *
RMSE_XY 0.98 *
IMAGE_SOURCE "BLACK AND WHITE FILM" *
SOURCE_IMAGE_ID "NAPP 10482 149" *
SOURCE_IMAGE_DATE 1998 8 14 *
SOURCE_IMAGE_ID "NAPP 10482 148" *
SOURCE_IMAGE_DATE 1998 8 14 *
SOURCE_IMAGE_ID "NAPP 10482 150" *
SOURCE_IMAGE_DATE 1998 8 14 *
SOURCE_IMAGE_ID "NAPP 10482 169" *
SOURCE_IMAGE_DATE 1998 8 14 *
SOURCE_IMAGE_ID "NAPP 10482 168" *
SOURCE_IMAGE_DATE 1998 8 14 *
SOURCE_IMAGE_ID "NAPP 10482 167" *
SOURCE_IMAGE_DATE 1998 8 14 *
SOURCE_DEM_DATE 2000 0 0 *
AGENCY "WESTERN MAPPING CENTER (WMC)" *
PRODUCER "USDA FS GEOSPATIAL SERVICE AND TECHNOLOGY CENTER" *
PRODUCTION_SYSTEM "ORBIT OR_RECTIFY V.5.2" *
STANDARD_VERSION 1996 12 *
METADATA_DATE 2001 7 25 *
DATA_FILE_SIZE 45331323 *
BYTE_COUNT 5997 * * * * * * * * * * * * * * * * * * * * * *
END_USGS_HEADER *
