BEGIN_USGS_DOQ_HEADER *
QUADRANGLE_NAME "OAK RUN" *
QUADRANT NE *
WEST_LONGITUDE -122 3 45.000 *
EAST_LONGITUDE -122 0 0.000 *
NORTH_LATITUDE 40 45 0.000 *
SOUTH_LATITUDE 40 41 15.000 *
PRODUCTION_DATE 2001 5 8 *
RASTER_ORDER LEFT_RIGHT/TOP_BOTTOM *
BAND_ORGANIZATION "SINGLE FILE" *
BAND_CONTENT BLACK&WHITE *
BITS_PER_PIXEL 8 *
SAMPLES_AND_LINES 6049 7611 *
HORIZONTAL_DATUM NAD83 *
HORIZONTAL_COORDINATE_SYSTEM UTM *
COORDINATE_ZONE 10 *
HORIZONTAL_UNITS METERS *
HORIZONTAL_RESOLUTION 1.0 *
SECONDARY_HORIZONTAL_DATUM NAD27 *
XY_ORIGIN 578749.740 4511785.706 *
SECONDARY_XY_ORIGIN 578845.490 4511589.053 *
NATION US *
STATE CA *
NW_QUAD_CORNER_XY 579142.874 4511427.967 *
NE_QUAD_CORNER_XY 584419.144 4511486.206 *
SE_QUAD_CORNER_XY 584498.144 4504548.293 *
SW_QUAD_CORNER_XY 579216.936 4504490.073 *
SECONDARY_NW_QUAD_XY 579144.994 4511216.526 *
SECONDARY_NE_QUAD_XY 584421.405 4511274.766 *
SECONDARY_SE_QUAD_XY 584500.404 4504336.966 *
SECONDARY_SW_QUAD_XY 579219.055 4504278.745 *
RMSE_XY 0.78 *
IMAGE_SOURCE "BLACK AND WHITE FILM" *
SOURCE_IMAGE_ID "NAPP 10475 105" *
SOURCE_IMAGE_DATE 1998 8 11 *
SOURCE_IMAGE_ID "NAPP 10475 104" *
SOURCE_IMAGE_DATE 1998 8 11 *
SOURCE_IMAGE_ID "NAPP 10491 44" *
SOURCE_IMAGE_DATE 1998 9 10 *
SOURCE_IMAGE_ID "NAPP 10475 14" *
SOURCE_IMAGE_DATE 1998 8 11 *
SOURCE_IMAGE_ID "NAPP 10475 15" *
SOURCE_IMAGE_DATE 1998 8 11 *
SOURCE_IMAGE_ID "NAPP 10491 35" *
SOURCE_IMAGE_DATE 1998 9 10 *
SOURCE_IMAGE_ID "NAPP 10502 154" *
SOURCE_IMAGE_DATE 1998 8 17 *
SOURCE_DEM_DATE 2000 0 0 *
AGENCY "WESTERN MAPPING CENTER (WMC)" *
PRODUCER "USDA FS GEOSPATIAL SERVICE AND TECHNOLOGY CENTER" *
PRODUCTION_SYSTEM "ORBIT OR_RECTIFY V.5.2" *
STANDARD_VERSION 1996 12 *
METADATA_DATE 2001 5 16 *
DATA_FILE_SIZE 46044988 *
BYTE_COUNT 6049 * * * * * * * * * * * * * * * * * * * * *
END_USGS_HEADER *
