BEGIN_USGS_DOQ_HEADER *
QUADRANGLE_NAME "OAK RUN" *
QUADRANT NW *
WEST_LONGITUDE -122 7 30.000 *
EAST_LONGITUDE -122 3 45.000 *
NORTH_LATITUDE 40 45 0.000 *
SOUTH_LATITUDE 40 41 15.000 *
PRODUCTION_DATE 2001 5 8 *
RASTER_ORDER LEFT_RIGHT/TOP_BOTTOM *
BAND_ORGANIZATION "SINGLE FILE" *
BAND_CONTENT BLACK&WHITE *
BITS_PER_PIXEL 8 *
SAMPLES_AND_LINES 6044 7607 *
HORIZONTAL_DATUM NAD83 *
HORIZONTAL_COORDINATE_SYSTEM UTM *
COORDINATE_ZONE 10 *
HORIZONTAL_UNITS METERS *
HORIZONTAL_RESOLUTION 1.0 *
SECONDARY_HORIZONTAL_DATUM NAD27 *
XY_ORIGIN 573472.849 4511727.467 *
SECONDARY_XY_ORIGIN 573568.595 4511530.859 *
NATION US *
STATE CA *
NW_QUAD_CORNER_XY 573866.619 4511373.487 *
NE_QUAD_CORNER_XY 579142.874 4511427.967 *
SE_QUAD_CORNER_XY 579216.936 4504490.073 *
SW_QUAD_CORNER_XY 573935.742 4504435.611 *
SECONDARY_NW_QUAD_XY 573868.597 4511162.044 *
SECONDARY_NE_QUAD_XY 579144.994 4511216.526 *
SECONDARY_SE_QUAD_XY 579219.055 4504278.745 *
SECONDARY_SW_QUAD_XY 573937.720 4504224.281 *
RMSE_XY 0.78 *
IMAGE_SOURCE "BLACK AND WHITE FILM" *
SOURCE_IMAGE_ID "NAPP 10475 15" *
SOURCE_IMAGE_DATE 1998 8 11 *
SOURCE_IMAGE_ID "NAPP 10475 14" *
SOURCE_IMAGE_DATE 1998 8 11 *
SOURCE_IMAGE_ID "NAPP 10491 35" *
SOURCE_IMAGE_DATE 1998 9 10 *
SOURCE_IMAGE_ID "NAPP 10475 27" *
SOURCE_IMAGE_DATE 1998 8 11 *
SOURCE_IMAGE_ID "NAPP 10475 26" *
SOURCE_IMAGE_DATE 1998 8 11 *
SOURCE_IMAGE_ID "NAPP 10475 104" *
SOURCE_IMAGE_DATE 1998 8 11 *
SOURCE_IMAGE_ID "NAPP 10475 105" *
SOURCE_IMAGE_DATE 1998 8 11 *
SOURCE_IMAGE_ID "NAPP 10491 44" *
SOURCE_IMAGE_DATE 1998 9 10 *
SOURCE_DEM_DATE 2000 0 0 *
AGENCY "WESTERN MAPPING CENTER (WMC)" *
PRODUCER "USDA FS GEOSPATIAL SERVICE AND TECHNOLOGY CENTER" *
PRODUCTION_SYSTEM "ORBIT OR_RECTIFY V.5.2" *
STANDARD_VERSION 1996 12 *
METADATA_DATE 2001 5 16 *
DATA_FILE_SIZE 45982752 *
BYTE_COUNT 6044 * * * * * * * * * * * * * * * * * * *
END_USGS_HEADER *
