BEGIN_USGS_DOQ_HEADER *
QUADRANGLE_NAME "OAK RUN" 3.45 or 7.5-min. name*
QUADRANT SE quadrant indicator if cell size = 3.75-minutes*
WEST_LONGITUDE -122 3 45.000 signed deg min sec SDDD MM SS.SSS*
EAST_LONGITUDE -122 0 0.000 signed deg min sec SDDD MM SS.SSS*
NORTH_LATITUDE 40 41 15.000 signed deg min sec SDDD MM SS.SSS*
SOUTH_LATITUDE 40 37 30.000 signed deg min sec SDDD MM SS.SSS*
PRODUCTION_DATE 1996 12 17 yyyy mm dd*
RASTER_ORDER LEFT_RIGHT/TOP_BOTTOM video display order*
BAND_ORGANIZATION "SINGLE FILE" single file or BSQ, or BIL or BIP*
BAND_CONTENT BLACK&WHITE black&white or red green blue*
BITS_PER_PIXEL 8 radiometric resolution*
SAMPLES_AND_LINES 6057 7614 number of columns and rows*
HORIZONTAL_DATUM NAD83 primary horizontal datum*
HORIZONTAL_COORDINATE_SYSTEM UTM *
COORDINATE_ZONE 10 coordinate system zone number*
HORIZONTAL_UNITS METERS coordinate system units*
HORIZONTAL_RESOLUTION 1.00 pixel horiz. ground sample distance*
SECONDARY_HORIZONTAL_DATUM NAD27 secondary horizontal datum*
XY_ORIGIN 578822.000 4504849.000 coord. of upper left pixel pri. datum*
SECONDARY_XY_ORIGIN 578917.781 4504652.435 coord upper left pixel sec datum*
NATION US nation code*
STATE CA state fip code*
NW_QUAD_CORNER_XY 579216.936 4504490.073 XY coords. of pri. NW quad corner*
NE_QUAD_CORNER_XY 584498.144 4504548.292 XY coords. of pri. NE quad corner*
SE_QUAD_CORNER_XY 584577.044 4497610.452 XY coords. of pri. SE quad corner*
SW_QUAD_CORNER_XY 579290.903 4497552.253 XY coords. of pri. SW quad corner*
SECONDARY_NW_QUAD_XY 579219.052 4504278.743 XY coords. - sec. NW quad cor.*
SECONDARY_NE_QUAD_XY 584500.401 4504336.964 XY coords. - sec. NE quad cor.*
SECONDARY_SE_QUAD_XY 584579.299 4497399.238 XY coords. - sec. SE quad cor.*
SECONDARY_SW_QUAD_XY 579293.018 4497341.037 XY coords. - sec. SW quad cor.*
RMSE_XY 1.50 doq horiz. accuracy*
IMAGE_SOURCE "BLACK AND WHITE FILM" b&w, cir, natural color, other*
SOURCE_IMAGE_ID "NAPP 6244 245" source image id*
SOURCE_IMAGE_DATE 1993 6 11 source image date as yyyy mm dd*
SOURCE_DEM_DATE 1996 12 17 source dem date yyyy mm dd*
AGENCY "WESTERN MAPPING CENTER (WMC)" oversight agency*
PRODUCER "Science Applications International" producer/contractor*
PRODUCTION_SYSTEM "GIS/MAGIC" production system*
STANDARD_VERSION 1996 12 version of DOQ standard*
METADATA_DATE 1997 10 19 date created or changed, yyyy mm dd*
DATA_FILE_SIZE 46124055 data set size in bytes*
BYTE_COUNT 6057 header byte count* * * * * * * * * * * * * * * * * * * * * * * * * * * * * * * * *
END_USGS_HEADER *
