BEGIN_USGS_DOQ_HEADER *
QUADRANGLE_NAME "OAK RUN" *
QUADRANT SE *
WEST_LONGITUDE -122 3 45.000 *
EAST_LONGITUDE -122 0 0.000 *
NORTH_LATITUDE 40 41 15.000 *
SOUTH_LATITUDE 40 37 30.000 *
PRODUCTION_DATE 2001 5 8 *
RASTER_ORDER LEFT_RIGHT/TOP_BOTTOM *
BAND_ORGANIZATION "SINGLE FILE" *
BAND_CONTENT BLACK&WHITE *
BITS_PER_PIXEL 8 *
SAMPLES_AND_LINES 6054 7611 *
HORIZONTAL_DATUM NAD83 *
HORIZONTAL_COORDINATE_SYSTEM UTM *
COORDINATE_ZONE 10 *
HORIZONTAL_UNITS METERS *
HORIZONTAL_RESOLUTION 1.0 *
SECONDARY_HORIZONTAL_DATUM NAD27 *
XY_ORIGIN 578823.272 4504847.793 *
SECONDARY_XY_ORIGIN 578919.053 4504651.233 *
NATION US *
STATE CA *
NW_QUAD_CORNER_XY 579216.936 4504490.073 *
NE_QUAD_CORNER_XY 584498.144 4504548.293 *
SE_QUAD_CORNER_XY 584577.044 4497610.453 *
SW_QUAD_CORNER_XY 579290.903 4497552.253 *
SECONDARY_NW_QUAD_XY 579219.055 4504278.745 *
SECONDARY_NE_QUAD_XY 584500.404 4504336.966 *
SECONDARY_SE_QUAD_XY 584579.302 4497399.240 *
SECONDARY_SW_QUAD_XY 579293.020 4497341.039 *
RMSE_XY 0.78 *
IMAGE_SOURCE "BLACK AND WHITE FILM" *
SOURCE_IMAGE_ID "NAPP 10475 103" *
SOURCE_IMAGE_DATE 1998 8 11 *
SOURCE_IMAGE_ID "NAPP 10475 102" *
SOURCE_IMAGE_DATE 1998 8 11 *
SOURCE_IMAGE_ID "NAPP 10475 104" *
SOURCE_IMAGE_DATE 1998 8 11 *
SOURCE_IMAGE_ID "NAPP 10475 12" *
SOURCE_IMAGE_DATE 1998 8 11 *
SOURCE_IMAGE_ID "NAPP 10475 13" *
SOURCE_IMAGE_DATE 1998 8 11 *
SOURCE_IMAGE_ID "NAPP 10475 14" *
SOURCE_IMAGE_DATE 1998 8 11 *
SOURCE_DEM_DATE 2000 0 0 *
AGENCY "WESTERN MAPPING CENTER (WMC)" *
PRODUCER "USDA FS GEOSPATIAL SERVICE AND TECHNOLOGY CENTER" *
PRODUCTION_SYSTEM "ORBIT OR_RECTIFY V.5.2" *
STANDARD_VERSION 1996 12 *
METADATA_DATE 2001 5 16 *
DATA_FILE_SIZE 46083048 *
BYTE_COUNT 6054 * * * * * * * * * * * * * * * * * * * * * * *
END_USGS_HEADER *
