BEGIN_USGS_DOQ_HEADER *
QUADRANGLE_NAME "BELLA VISTA" *
QUADRANT NE *
WEST_LONGITUDE -122 11 15.000 *
EAST_LONGITUDE -122 7 30.000 *
NORTH_LATITUDE 40 45 0.000 *
SOUTH_LATITUDE 40 41 15.000 *
PRODUCTION_DATE 2001 5 8 *
RASTER_ORDER LEFT_RIGHT/TOP_BOTTOM *
BAND_ORGANIZATION "SINGLE FILE" *
BAND_CONTENT BLACK&WHITE *
BITS_PER_PIXEL 8 *
SAMPLES_AND_LINES 6039 7603 *
HORIZONTAL_DATUM NAD83 *
HORIZONTAL_COORDINATE_SYSTEM UTM *
COORDINATE_ZONE 10 *
HORIZONTAL_UNITS METERS *
HORIZONTAL_RESOLUTION 1.0 *
SECONDARY_HORIZONTAL_DATUM NAD27 *
XY_ORIGIN 568196.970 4511672.987 *
SECONDARY_XY_ORIGIN 568292.711 4511476.424 *
NATION US *
STATE CA *
NW_QUAD_CORNER_XY 568590.377 4511322.764 *
NE_QUAD_CORNER_XY 573866.619 4511373.487 *
SE_QUAD_CORNER_XY 573935.742 4504435.611 *
SW_QUAD_CORNER_XY 568654.562 4504384.905 *
SECONDARY_NW_QUAD_XY 568592.214 4511111.320 *
SECONDARY_NE_QUAD_XY 573868.597 4511162.044 *
SECONDARY_SE_QUAD_XY 573937.720 4504224.281 *
SECONDARY_SW_QUAD_XY 568656.398 4504173.574 *
RMSE_XY 0.78 *
IMAGE_SOURCE "BLACK AND WHITE FILM" *
SOURCE_IMAGE_ID "NAPP 10475 26" *
SOURCE_IMAGE_DATE 1998 8 11 *
SOURCE_IMAGE_ID "NAPP 10475 27" *
SOURCE_IMAGE_DATE 1998 8 11 *
SOURCE_IMAGE_ID "NAPP 10475 114" *
SOURCE_IMAGE_DATE 1998 8 11 *
SOURCE_IMAGE_ID "NAPP 10475 113" *
SOURCE_IMAGE_DATE 1998 8 11 *
SOURCE_IMAGE_ID "NAPP 10481 262" *
SOURCE_IMAGE_DATE 1998 8 14 *
SOURCE_IMAGE_ID "NAPP 10475 14" *
SOURCE_IMAGE_DATE 1998 8 11 *
SOURCE_IMAGE_ID "NAPP 10475 15" *
SOURCE_IMAGE_DATE 1998 8 11 *
SOURCE_IMAGE_ID "NAPP 10491 35" *
SOURCE_IMAGE_DATE 1998 9 10 *
SOURCE_DEM_DATE 2000 0 0 *
AGENCY "WESTERN MAPPING CENTER (WMC)" *
PRODUCER "USDA FS GEOSPATIAL SERVICE AND TECHNOLOGY CENTER" *
PRODUCTION_SYSTEM "ORBIT OR_RECTIFY V.5.2" *
STANDARD_VERSION 1996 12 *
METADATA_DATE 2001 5 16 *
DATA_FILE_SIZE 45920556 *
BYTE_COUNT 6039 * * * * * * * * * * * * * * * * * * *
END_USGS_HEADER *
